BEGIN:VCALENDAR
VERSION:2.0
PRODID:-//ChamberMaster//Event Calendar 2.0//EN
METHOD:PUBLISH
X-PUBLISHED-TTL:P3D
REFRESH-INTERVAL:P3D
CALSCALE:GREGORIAN
BEGIN:VEVENT
DTSTART:20180523T233000Z
DTEND:20180531T003000Z
X-MICROSOFT-CDO-ALLDAYEVENT:FALSE
SUMMARY:Sunset Rooftop Yoga
DESCRIPTION:Sunset Rooftop Yoga Join us on the roof garden of The Inn And Spa At Beacon. Mats provided. The mountains\, the spring air\, the birds\, the Hudson River flowing in the distance\, all help us to breathe in and release ourselves from our daily habits of thought\, and re-center ourselves in a world much larger than our daily push and pull.
X-ALT-DESC;FMTTYPE=text/html:Sunset Rooftop Yoga Join us on the roof garden of The Inn And Spa At Beacon. Mats provided. The mountains\, the spring air\, the birds\, the Hudson River flowing in the distance\, all help us to breathe in and release ourselves from our daily habits of thought\, and re-center ourselves in a world much larger than our daily push and pull.
LOCATION:The Inn and Spa at Beacon - 151 Main St\, Beacon\, New York\, 12508
UID:e.2770.10477826
SEQUENCE:3
DTSTAMP:20260426T034230Z
URL:http://dutchesscountyregional.smartcms.site/events/details/sunset-rooftop-yoga-10477826
END:VEVENT

END:VCALENDAR
