BEGIN:VCALENDAR
VERSION:2.0
PRODID:-//ChamberMaster//Event Calendar 2.0//EN
METHOD:PUBLISH
X-PUBLISHED-TTL:P3D
REFRESH-INTERVAL:P3D
CALSCALE:GREGORIAN
BEGIN:VEVENT
DTSTART:20190606T210000Z
DTEND:20190607T003000Z
X-MICROSOFT-CDO-ALLDAYEVENT:FALSE
SUMMARY:Taste of Arlington
DESCRIPTION:Taste of Arlington Returns June 6\, 2019\n\n3rd Annual Event to Highlight Local Businesses\n \n\nThe Arlington Business Improvement District (ABID) will host the 3rd annual Taste of Arlington on June 6\, 2019\, from 5:00 - 8:30 PM. \n \n\nThe Taste of Arlington brings together food and music to create a festival that showcases the best the Arlington area has to offer. Attendees will enjoy a walkable culinary trail throughout the Arlington Business Improvement District and sample over 30 culinary dishes from participating restaurants\, including the most innovative concepts\, international cuisine\, and under-the-radar eats. The festival will include music\, entertainment and of course dining. \n \n\nProceeds from this year's festival will benefit the Poughkeepsie Farm Project\, a member-supported farm in the City of Poughkeepsie whose mission is to cultivate a just and sustainable food system in the Mid-Hudson Valley.\n \n\nRestaurants and chefs are invited to participate and serve up their favorite specialties at this year's festival. Taste of Arlington will showcase the incredible energy and diversity of the district's amazing food scene. Businesses interested in participating can contact festival organizers by email at Bianca@RSVPbyB.com for all the details. Sponsorship opportunities are also available.\n \n\n"We are really looking forward to this year's festival\," said Robert Legacy\, ABID Board Director. "The culinary scene in the Arlington Business Improvement District is really diverse and the beauty of this event is that hundreds of people can sample all their many dishes in one night while enjoying great music and supporting their local community."\n \n\nTickets for the 3rd annual Taste of Arlington festival are now on sale. The price will be $20/adults\, $8/kids (5-12 years) and children 4 and under are free. \n \n\nAbout the Arlington Business Improvement District \n\nThe Arlington Business Improvement District (ABID) is a vibrant and unique area that serves more than 12\,000 people living within greater Arlington. This includes residential neighborhoods within the City of Poughkeepsie\, as well as suburban areas to the east and south in the Town of Poughkeepsie.\n \n\nThe mission of the ABID is centered around the revitalization and beautification of Arlington while creating the most business- and visitor-friendly environment possible. We bring local residents and local businesses together for their mutual benefit.\n \n\nVisit arlingtonhasit.org to learn more.
X-ALT-DESC;FMTTYPE=text/html:<p><strong>Taste of Arlington Returns June 6\, 2019</strong></p>\n\n<p><span style="background-color:transparent\; color:rgb(0\, 0\, 0)\; font-family:arial\; font-size:11pt">3rd Annual Event to Highlight Local Businesses</span></p>\n&nbsp\;\n\n<p><span style="background-color:transparent\; color:rgb(0\, 0\, 0)\; font-family:arial\; font-size:11pt">The Arlington Business Improvement District (ABID) will host the 3rd annual Taste of Arlington on June 6\, 2019\, from 5:00 - 8:30 PM. </span></p>\n&nbsp\;\n\n<p><span style="background-color:transparent\; color:rgb(0\, 0\, 0)\; font-family:arial\; font-size:11pt">The</span><em> </em><span style="background-color:transparent\; color:rgb(0\, 0\, 0)\; font-family:arial\; font-size:11pt">Taste of Arlington brings together food and music to create a festival that showcases the best the Arlington area has to offer. Attendees will enjoy a walkable culinary trail throughout the Arlington Business Improvement District and sample over 30 culinary dishes from participating restaurants\, including the most innovative concepts\, international cuisine\, and under-the-radar eats. The festival will include music\, entertainment and of course dining. </span></p>\n&nbsp\;\n\n<p><span style="background-color:transparent\; color:rgb(0\, 0\, 0)\; font-family:arial\; font-size:11pt">Proceeds from this year&rsquo\;s festival will benefit the Poughkeepsie Farm Project\, a member-supported farm in the City of Poughkeepsie whose mission is to cultivate a just and sustainable food system in the Mid-Hudson Valley.</span></p>\n&nbsp\;\n\n<p><span style="background-color:transparent\; color:rgb(0\, 0\, 0)\; font-family:arial\; font-size:11pt">Restaurants and chefs are invited to participate and serve up their favorite specialties at this year&rsquo\;s festival. Taste of Arlington will showcase the incredible energy and diversity of the district&rsquo\;s amazing food scene. Businesses interested in participating can contact festival organizers by email at Bianca@RSVPbyB.com for all the details. Sponsorship opportunities are also available.</span></p>\n&nbsp\;\n\n<p><span style="color:rgb(0\, 0\, 0)\; font-family:arial\; font-size:11pt">&ldquo\;We are really looking forward to this year&rsquo\;s festival\,&rdquo\; said Robert Legacy\, ABID Board Director. &ldquo\;The culinary scene in the Arlington Business Improvement District is really diverse and the beauty of this event is that hundreds of people can sample all their many dishes in one night while enjoying great music and supporting their local community.&rdquo\;</span></p>\n&nbsp\;\n\n<p><span style="background-color:transparent\; color:rgb(0\, 0\, 0)\; font-family:arial\; font-size:11pt">Tickets for the 3rd annual Taste of Arlington festival are now on sale. The price will be $20/adults\, $8/kids (5-12 years) and children 4 and under are free. </span></p>\n&nbsp\;\n\n<p><strong>About the Arlington Business Improvement District </strong></p>\n\n<p><span style="background-color:transparent\; color:rgb(0\, 0\, 0)\; font-family:arial\; font-size:11pt">The Arlington Business Improvement District (ABID) is a vibrant and unique area that serves more than 12\,000 people living within greater Arlington. This includes residential neighborhoods within the City of Poughkeepsie\, as well as suburban areas to the east and south in the Town of Poughkeepsie.</span></p>\n&nbsp\;\n\n<p><span style="background-color:transparent\; color:rgb(0\, 0\, 0)\; font-family:arial\; font-size:11pt">The mission of the ABID is centered around the revitalization and beautification of Arlington while creating the most business- and visitor-friendly environment possible. We bring local residents and local businesses together for their mutual benefit.</span></p>\n&nbsp\;\n\n<p><span style="background-color:transparent\; color:rgb(0\, 0\, 0)\; font-family:arial\; font-size:11pt">Visit <a href="http://arlingtonhasit.org/" style="color: rgb(17\, 85\, 204)\;" target="_blank">arlingtonhasit.org</a> to learn more.</span></p>\n
LOCATION:
UID:e.2770.10480761
SEQUENCE:3
DTSTAMP:20260423T021229Z
URL:http://dutchesscountyregional.smartcms.site/events/details/taste-of-arlington-10480761
END:VEVENT

END:VCALENDAR
