BEGIN:VCALENDAR
VERSION:2.0
PRODID:-//ChamberMaster//Event Calendar 2.0//EN
METHOD:PUBLISH
X-PUBLISHED-TTL:P3D
REFRESH-INTERVAL:P3D
CALSCALE:GREGORIAN
BEGIN:VEVENT
DTSTART:20180524T210000Z
DTEND:20180524T230000Z
X-MICROSOFT-CDO-ALLDAYEVENT:FALSE
SUMMARY:TEA: Event to be Determined with the Bruderhoff Community
DESCRIPTION:During this Thursday Evening Activity (TEA)\, designed for Workforce Connections and Youth One Stop participants. Enjoy some quality time with the Bruderhof Community.\n\n\n\nRegistration required. For more information and to RSVP\, contact Meredith Madden\, (845) 454-1700\, ext. 1002.\n\n\n\n***This event is not open to the public. Provided for Workforce Connections participants only.
X-ALT-DESC;FMTTYPE=text/html:During this Thursday Evening Activity (TEA)\, designed for Workforce Connections and Youth One Stop participants. Enjoy some quality time with the Bruderhof Community.<br />\n<br />\nRegistration required. For more information and to RSVP\, contact Meredith Madden\, (845) 454-1700\, ext. 1002.<br />\n<br />\n<span style="color: rgb(51\, 51\, 51)\; font-family: sans-serif\, Arial\, Verdana\, &quot\;Trebuchet MS&quot\;\; font-size: 13px\; background-color: rgb(255\, 255\, 255)\;">***This event is not open to the public. Provided for Workforce Connections participants only.</span>
LOCATION:Dutchess County Regional Chamber of Commerce Workforce Connections Office 1 Civic Center Plaza Poughkeepsie\, NY 12601
UID:e.2770.10477713
SEQUENCE:3
DTSTAMP:20260426T034303Z
URL:http://dutchesscountyregional.smartcms.site/events/details/tea-event-to-be-determined-with-the-bruderhoff-community-10477713
END:VEVENT

END:VCALENDAR
