BEGIN:VCALENDAR
VERSION:2.0
PRODID:-//ChamberMaster//Event Calendar 2.0//EN
METHOD:PUBLISH
X-PUBLISHED-TTL:P3D
REFRESH-INTERVAL:P3D
CALSCALE:GREGORIAN
BEGIN:VEVENT
DTSTART:20200306T230000Z
DTEND:20200307T020000Z
X-MICROSOFT-CDO-ALLDAYEVENT:FALSE
SUMMARY:The 22nd Annual Gateway Raffle
DESCRIPTION:Come as you are and enjoy an evening of "Red Carpet" treatment! Only 350 tickets are available for the raffle\, $100 per ticket. First prize: $10\,000\, Second prize: $1\,500\, Third prize: $500\, Fourth prize: $500. Need not be present to win but there will be additional opportunities for prize drawings throughout the evening. We will also be raffling vacations to St. Lucia\, Panama\, and Barbados. Must be at least 18 years old to purchase ticket. Tax deductible portion of the ticket is $90.
X-ALT-DESC;FMTTYPE=text/html:Come as you are and enjoy an evening of &quot\;Red Carpet&quot\; treatment! Only 350 tickets are available for the raffle\, $100 per ticket. First prize: $10\,000\, Second prize: $1\,500\, Third prize: $500\, Fourth prize: $500. Need not be present to win but there will be additional opportunities for prize drawings throughout the evening. We will also be raffling vacations to St. Lucia\, Panama\, and Barbados. Must be at least 18 years old to purchase ticket. Tax deductible portion of the ticket is $90.
LOCATION:The Chateau 240 Boulevard Kingston\, NY 12401
UID:e.2770.10482680
SEQUENCE:3
DTSTAMP:20260422T090610Z
URL:http://dutchesscountyregional.smartcms.site/events/details/the-22nd-annual-gateway-raffle-10482680
END:VEVENT

END:VCALENDAR
