BEGIN:VCALENDAR
VERSION:2.0
PRODID:-//ChamberMaster//Event Calendar 2.0//EN
METHOD:PUBLISH
X-PUBLISHED-TTL:P3D
REFRESH-INTERVAL:P3D
CALSCALE:GREGORIAN
BEGIN:VEVENT
DTSTART:20190310T160000Z
DTEND:20190310T190000Z
X-MICROSOFT-CDO-ALLDAYEVENT:FALSE
SUMMARY:The 8th Annual "Challenge Your Colon" Chili Festival
DESCRIPTION:Family friendly afternoon will host local restaurants serving up tasting portions of their prize chili recipes and other specialties.  Both meat and vegetarian chili will be featured.
X-ALT-DESC;FMTTYPE=text/html:Family friendly afternoon will host local restaurants serving up tasting portions of their prize chili recipes and other specialties.&nbsp\; Both meat and vegetarian chili will be featured. &nbsp\;
LOCATION:Villa Borghese\, Wappingers Falls
UID:e.2770.10480515
SEQUENCE:3
DTSTAMP:20260423T072236Z
URL:http://dutchesscountyregional.smartcms.site/events/details/the-8th-annual-challenge-your-colon-chili-festival-10480515
END:VEVENT

END:VCALENDAR
