BEGIN:VCALENDAR
VERSION:2.0
PRODID:-//ChamberMaster//Event Calendar 2.0//EN
METHOD:PUBLISH
X-PUBLISHED-TTL:P3D
REFRESH-INTERVAL:P3D
CALSCALE:GREGORIAN
BEGIN:VEVENT
DTSTART:20190118T223000Z
DTEND:20190119T003000Z
X-MICROSOFT-CDO-ALLDAYEVENT:FALSE
SUMMARY:The Art Effect - Art After Hours: TEEN VISIONS
DESCRIPTION:Join us for Art After Hours: Teen Visions at the Poughkeepsie Trolley Barn! For this edition of Art After Hours\, we invite you to view the 2019 Teen Visions exhibition at the newly renovated Poughkeepsie Trolley Barn! Featuring more than 70 artworks   from drawings\, photography\, paintings\, and mixed media   this exhibit showcases work from more than 35 artists who participated in this past summer's Art Institute. Attendees will be able to view the artwork while sampling unlimited tastings from local craft breweries and amazing food vendors\, as well as listen to live music. Music by Absolute Zeros!
X-ALT-DESC;FMTTYPE=text/html:Join us for Art After Hours: Teen Visions at the Poughkeepsie Trolley Barn! For this edition of Art After Hours\, we invite you to view the 2019 Teen Visions exhibition at the newly renovated Poughkeepsie Trolley Barn! Featuring more than 70 artworks &ndash\; from drawings\, photography\, paintings\, and mixed media &ndash\; this exhibit showcases work from more than 35 artists who participated in this past summer&rsquo\;s Art Institute. Attendees will be able to view the artwork while sampling unlimited tastings from local craft breweries and amazing food vendors\, as well as listen to live music. Music by Absolute Zeros!
LOCATION:Poughkeepsie Trolley Barn 489 Main Street Poughkeepsie\, NY 12601
UID:e.2770.10480184
SEQUENCE:3
DTSTAMP:20260425T123837Z
URL:http://dutchesscountyregional.smartcms.site/events/details/the-art-effect-art-after-hours-teen-visions-10480184
END:VEVENT

END:VCALENDAR
