BEGIN:VCALENDAR
VERSION:2.0
PRODID:-//ChamberMaster//Event Calendar 2.0//EN
METHOD:PUBLISH
X-PUBLISHED-TTL:P3D
REFRESH-INTERVAL:P3D
CALSCALE:GREGORIAN
BEGIN:VEVENT
DTSTART:20210519T230000Z
DTEND:20210520T010000Z
X-MICROSOFT-CDO-ALLDAYEVENT:FALSE
SUMMARY:The Art Effect: Hudson Valley Gives Arts for Healing Workshop
DESCRIPTION:Grab your art supplies and tune in to a FREE virtual Arts For Healing workshop with arts educator extraordinaire\, Lauren Hollick. Join us on May 19\, 2021 at 7pm for #HVGives Day! Workshop is free with a suggested donation of $10. Get a close up look at your eyes and learn how to draw your distinct eye curves\, shapes and details. Be led through illustrating your innermost thoughts\, experiences\, dreams\, or fears inside or around your illustrated eye to show your personal journey. Sign up:https://fb.me/e/3IK8e0yQR
X-ALT-DESC;FMTTYPE=text/html:Grab your art supplies and tune in to a FREE virtual Arts For Healing workshop with arts educator extraordinaire\, Lauren Hollick. Join us on May 19\, 2021 at 7pm for #HVGives Day! Workshop is free with a suggested donation of $10. Get a close up look at your eyes and learn how to draw your distinct eye curves\, shapes and details. Be led through illustrating your innermost thoughts\, experiences\, dreams\, or fears inside or around your illustrated eye to show your personal journey. Sign up:https://fb.me/e/3IK8e0yQR
LOCATION:Livestream
UID:e.2770.10485129
SEQUENCE:3
DTSTAMP:20260421T101344Z
URL:http://dutchesscountyregional.smartcms.site/events/details/the-art-effect-hudson-valley-gives-arts-for-healing-workshop-10485129
END:VEVENT

END:VCALENDAR
