BEGIN:VCALENDAR
VERSION:2.0
PRODID:-//ChamberMaster//Event Calendar 2.0//EN
METHOD:PUBLISH
X-PUBLISHED-TTL:P3D
REFRESH-INTERVAL:P3D
CALSCALE:GREGORIAN
BEGIN:VEVENT
DTSTART:20181115T143000Z
DTEND:20181115T173000Z
X-MICROSOFT-CDO-ALLDAYEVENT:FALSE
SUMMARY:The Art Effect's Free Workshop: Processing Through Painting
DESCRIPTION:Work with an arts educator from The Art Effect to examine emotionally complex passages in the Big Read literature. After discussion\, create an abstract painting that reflects the literary landscape. No previous experience necessary. All supplies/materials provided\, space limited. Registration required. FREE - For adults
X-ALT-DESC;FMTTYPE=text/html:Work with an arts educator from The Art Effect to examine emotionally complex passages in the Big Read literature. After discussion\, create an abstract painting that reflects the literary landscape. No previous experience necessary. All supplies/materials provided\, space limited. Registration required. FREE - For adults
LOCATION:Boardman Branch Library 141 Boardman Rd\, Poughkeepsie\, NY 12603
UID:e.2770.10479785
SEQUENCE:3
DTSTAMP:20260425T160329Z
URL:http://dutchesscountyregional.smartcms.site/events/details/the-art-effect-s-free-workshop-processing-through-painting-10479785
END:VEVENT

END:VCALENDAR
