BEGIN:VCALENDAR
VERSION:2.0
PRODID:-//ChamberMaster//Event Calendar 2.0//EN
METHOD:PUBLISH
X-PUBLISHED-TTL:P3D
REFRESH-INTERVAL:P3D
CALSCALE:GREGORIAN
BEGIN:VEVENT
DTSTART:20190328T213000Z
DTEND:20190328T230000Z
X-MICROSOFT-CDO-ALLDAYEVENT:FALSE
SUMMARY:The Chamber Foundation - Leadership Dutchess Information Session
DESCRIPTION:Join us for a Leadership Dutchess information session!
X-ALT-DESC;FMTTYPE=text/html:<br />\n<span style="font-size: 14px\;"><span style="font-family: verdana\;">Join us for a&nbsp\;Leadership Dutchess&nbsp\;information session!</span></span>
LOCATION:Chamber Offices One Civic Center Plaza Suite 400 Poughkeepsie
UID:e.2770.10480525
SEQUENCE:3
DTSTAMP:20260423T072130Z
URL:http://dutchesscountyregional.smartcms.site/events/details/the-chamber-foundation-leadership-dutchess-information-session-10480525
END:VEVENT

END:VCALENDAR
