BEGIN:VCALENDAR
VERSION:2.0
PRODID:-//ChamberMaster//Event Calendar 2.0//EN
METHOD:PUBLISH
X-PUBLISHED-TTL:P3D
REFRESH-INTERVAL:P3D
CALSCALE:GREGORIAN
BEGIN:VEVENT
DTSTART:20200917T210000Z
DTEND:20200917T230000Z
X-MICROSOFT-CDO-ALLDAYEVENT:FALSE
SUMMARY:The Music Man Raffle & Leadership Dutchess Graduation
DESCRIPTION:The Music Man Broadway Show Ticket Raffle\n\nand\n\nLeadership Dutchess Graduation\n\nEnter for a chance to win $100 VISA GIFT CARD AND\n\nTwo Tickets to see The Music Man on Broadway!\n\nOpening Weekend\, Orchestra Seats.\n\nTwo Chances to Win:\n\nFriday\, May 21\, 2021 at 8:00pm\n\nSaturday\, May 22\, 2021 at 2:00pm\n\n \n\nADDITIONAL CHANCES TO WIN!\n\n15 prizes drawn throughout the evening!\n\n \n\nRaffle runs through Monday\, September 14 at 6:00 p.m.\n\n\n\nWinner does not need to be present to win.  Must be 18 to participate.\n\n\n\nTo Register\, Please Click Here\n\n\n\nPlatinum Sponsor\n\nKeyBank\n\n\n\nGold Sponsors\n\nRondout Savings Bank\n\nTompkins Mahopac Bank\n\n\n\nSilver Sponsor\n\nAdams Fairacre Farms\n\nArlington Fire District Local 2393\n\nPuro Clean Professional Restoration\n\n\n\nBronze Sponsors\n\nDuBois Law Group\, PLLC\n\nFortress Financial Advisory LLC\n\nHudson Valley Credit Union\n\nPrime Print Shop\n\nRBT CPAs\, LLP\n\nRhinebeck Bank\n\nUnited Way of Dutchess-Orange Region\n\n\n\nSupporters\n\nChildren's Home of Poughkeepsie\n\nMatt's Auto Body
X-ALT-DESC;FMTTYPE=text/html:<p align="center" style="margin: 0px\; text-align: center\;"><b><span style="margin: 0px\; font-family: &quot\;Times New Roman&quot\;\,serif\; font-size: 20pt\;">The Music Man Broadway Show Ticket Raffle<br />\nand<br />\nLeadership Dutchess Graduation</span></b></p>\n\n<p align="center" style="margin: 0px\; text-align: center\;"><span style="margin: 0px\; font-family: &quot\;Times New Roman&quot\;\,serif\; font-size: 12pt\;">Enter for a chance to win <b>$100 VISA GIFT CARD </b><i>AND</i></span></p>\n\n<p align="center" style="margin: 0px\; text-align: center\;"><b><span style="margin: 0px\; font-family: &quot\;Times New Roman&quot\;\,serif\; font-size: 12pt\;">Two Tickets </span></b><span style="margin: 0px\; font-family: &quot\;Times New Roman&quot\;\,serif\; font-size: 12pt\;">to see <b>The Music Man </b>on <b>Broadway!</b></span></p>\n\n<p align="center" style="margin: 0px\; text-align: center\;"><b><span style="margin: 0px\; font-family: &quot\;Times New Roman&quot\;\,serif\; font-size: 11.5pt\;">Opening Weekend\, Orchestra Seats.</span></b></p>\n\n<p align="center" style="margin: 0px\; text-align: center\;"><b><span style="margin: 0px\; font-family: &quot\;Times New Roman&quot\;\,serif\; font-size: 18pt\;">Two Chances to Win:</span></b></p>\n\n<p align="center" style="margin: 0px\; text-align: center\;"><span style="margin: 0px\; font-family: &quot\;Times New Roman&quot\;\,serif\; font-size: 15pt\;">Friday\, May 21\, 2021 at 8:00pm</span></p>\n\n<p align="center" style="margin: 0px\; text-align: center\;"><span style="margin: 0px\; font-family: &quot\;Times New Roman&quot\;\,serif\; font-size: 15pt\;">Saturday\, May 22\, 2021 at 2:00pm</span></p>\n\n<p align="center" style="margin: 0px\; text-align: center\;"><span style="margin: 0px\; font-family: &quot\;Times New Roman&quot\;\,serif\;">&nbsp\;</span></p>\n\n<p align="center" style="margin: 0px\; text-align: center\;"><span style="margin: 0px\; font-family: &quot\;Times New Roman&quot\;\,serif\;">ADDITIONAL CHANCES TO WIN!<br />\n15 prizes drawn throughout the evening!</span></p>\n\n<p align="center" style="margin: 0px\; text-align: center\;"><span style="margin: 0px\; font-family: &quot\;Times New Roman&quot\;\,serif\; font-size: 10pt\;">&nbsp\;</span></p>\n\n<p align="center" style="margin: 0px\; text-align: center\;"><span style="margin: 0px\; font-family: &quot\;Times New Roman&quot\;\,serif\; font-size: 12pt\;">Raffle runs through Monday\, September 14 at 6:00 p.m.</span></p>\n\n<p align="center" style="margin: 0px\; text-align: center\;"><br />\n<span style="margin: 0px\; font-family: &quot\;Times New Roman&quot\;\,serif\; font-size: 12pt\;">Winner does not need to be present to win.&nbsp\;&nbsp\;<b><i>Must be 18 to participate.</i></b><br />\n<br />\n<span style="font-size:18px\;"><strong><span style="color:#FF0000\;">To Register\, Please Click</span> <a href="https://dcrcoc-org.zoom.us/webinar/register/WN_27qI3l8lRhadMmpKO-_RNg" target="_blank"><span style="color:#0000FF\;">Here</span></a></strong></span><br />\n<br />\n<strong>Platinum Sponsor</strong><br />\n<b><a href="https://www.key.com/personal/index.jsp" target="_blank"><span style="color:#0000FF\;">KeyBank</span></a><br />\n<br />\nGold Sponsors</b></span><br />\n<b style="color: rgb(51\, 51\, 51)\; font-family: &quot\;Times New Roman&quot\;\, serif\; font-size: 16px\; text-align: center\; background-color: rgb(255\, 255\, 255)\;"><a href="https://www.rondoutbank.com/" style="color: rgb(7\, 130\, 193)\;" target="_blank"><span style="color:#0000FF\;">Rondout Savings Bank</span></a></b><br />\n<span style="margin: 0px\; font-family: &quot\;Times New Roman&quot\;\,serif\; font-size: 12pt\;"><b><a href="https://www.mahopacbank.com/" target="_blank"><span style="color:#0000FF\;">Tompkins Mahopac Bank</span></a><br />\n<br />\nSilver Sponsor<br />\n<a href="https://adamsfarms.com/" target="_blank"><span style="color:#0000FF\;">Adams Fairacre Farms</span></a></b></span><br />\n<strong><span style="font-family:times new roman\;"><span style="font-size:12.0pt\;"><a href="http://www.local2393.com/cms/" target="_blank"><span style="color:#0000FF\;">Arlington Fire District Local 2393</span></a></span></span></strong><br />\n<a href="https://www.puroclean.com/or-ny" target="_blank"><span style="color:#0000FF\;"><strong><span style="font-family:times new roman\;"><span style="font-size:12.0pt\;">Puro Clean Professional Restoration</span></span></strong></span></a><br />\n<br />\n<span style="margin: 0px\; font-family: &quot\;Times New Roman&quot\;\,serif\; font-size: 12pt\;"><b>Bronze Sponsors<br />\n<a href="https://duboiselderlaw.com/" target="_blank"><span style="color:#0000FF\;">DuBois Law Group\, PLLC</span></a></b></span><br />\n<b style="font-family: &quot\;Times New Roman&quot\;\, serif\; font-size: 16px\; text-align: center\;"><a href="http://concierge.lifemark.com/WilliamFrancis" target="_blank"><span style="color: rgb(0\, 0\, 255)\;">Fortress Financial Advisory LLC</span></a></b><br />\n<b style="text-align: center\; font-family: &quot\;Times New Roman&quot\;\, serif\; font-size: 16px\;"><a href="https://www.hvcu.org/" target="_blank"><span style="color: rgb(0\, 0\, 255)\;">Hudson Valley Credit Union</span></a></b><br />\n<span style="margin: 0px\; font-family: &quot\;Times New Roman&quot\;\,serif\; font-size: 12pt\;"><b><a href="https://www.primeprintshop.com/" target="_blank"><span style="color:#0000FF\;">Prime Print Shop</span></a><br />\n<a href="https://www.rbtcpas.com/" target="_blank"><span style="color:#0000FF\;">RBT CPAs\, LLP</span></a><br />\n<a href="https://www.rhinebeckbank.com/" target="_blank"><span style="color:#0000FF\;">Rhinebeck Bank</span></a></b></span><br />\n<b style="font-family: &quot\;Times New Roman&quot\;\, serif\; font-size: 16px\; text-align: center\;"><a href="https://www.uwdor.org/" target="_blank"><span style="color: rgb(0\, 0\, 255)\;">United Way of Dutchess-Orange Region</span></a></b><br />\n<br />\n<span style="margin: 0px\; font-family: &quot\;Times New Roman&quot\;\,serif\; font-size: 12pt\;"><b>Supporters<br />\n<a href="https://www.childrenshome.us/" target="_blank"><span style="color:#0000FF\;">Children&#39\;s Home of Poughkeepsie</span></a><br />\n<a href="https://mattsautobody.com/" target="_blank"><span style="color:#0000FF\;">Matt&#39\;s Auto Body</span></a></b></span></p>\n
LOCATION:LIVE DRAWING VIA ZOOM ON THURSDAY\, SEPTEMBER 17 at 5 PM LEADERSHIP DUTCHESS GRADUATION STARTS at 6 PM Click Here To Register
UID:e.2770.10483211
SEQUENCE:3
DTSTAMP:20260421T230620Z
URL:http://dutchesscountyregional.smartcms.site/events/details/the-music-man-raffle-leadership-dutchess-graduation-10483211
END:VEVENT

END:VCALENDAR
