BEGIN:VCALENDAR
VERSION:2.0
PRODID:-//ChamberMaster//Event Calendar 2.0//EN
METHOD:PUBLISH
X-PUBLISHED-TTL:P3D
REFRESH-INTERVAL:P3D
CALSCALE:GREGORIAN
BEGIN:VEVENT
DTSTART:20180520T003000Z
DTEND:20180520T033000Z
X-MICROSOFT-CDO-ALLDAYEVENT:FALSE
SUMMARY:The Playback at Alley Kat!
DESCRIPTION:This will be a rare intimate two set performance featuring a mix of cover songs and original music. No cover charge\, 14 beers on tap and the best bartender in the Hudson Valley! You won't want to miss this show!\nCheck out the event details on our Facebook page:\n\nThe Playback at Alley Kat!
X-ALT-DESC;FMTTYPE=text/html:<p><span style="color:rgb(29\, 33\, 41)\; font-family:system-ui\,-apple-system\,blinkmacsystemfont\,.sfnstext-regular\,sans-serif\; font-size:14px">This will be a rare intimate two set performance featuring a mix of cover songs and original music. No cover charge\, 14 beers on tap and the best bartender in the Hudson Valley! You won&rsquo\;t want to miss this show!</span></p>\nCheck out the event details on our Facebook page:<br />\n<a href="https://www.facebook.com/events/1711951132229309/">The Playback at Alley Kat!</a><br />\n&nbsp\;
LOCATION:The Alley Kat 1677 US 9 Wappingers Falls\, New York\, NY 12590
UID:e.2770.10477786
SEQUENCE:3
DTSTAMP:20260426T034258Z
URL:http://dutchesscountyregional.smartcms.site/events/details/the-playback-at-alley-kat-10477786
END:VEVENT

END:VCALENDAR
