BEGIN:VCALENDAR
VERSION:2.0
PRODID:-//ChamberMaster//Event Calendar 2.0//EN
METHOD:PUBLISH
X-PUBLISHED-TTL:P3D
REFRESH-INTERVAL:P3D
CALSCALE:GREGORIAN
BEGIN:VEVENT
DTSTART:20210520T230000Z
DTEND:20210521T010000Z
X-MICROSOFT-CDO-ALLDAYEVENT:FALSE
SUMMARY:The Poughkeepsie Public Schools Foundation Inaugural Gala
DESCRIPTION:The Poughkeepsie Public Schools Foundation invites you to participate and support the organization by attending the Inaugural Gala\n\nPerformances by current students and alum of Poughkeepsie High School!\n\nStories and memories from each decade 1940s-present! Silent auction with online bidding!
X-ALT-DESC;FMTTYPE=text/html:The Poughkeepsie Public Schools Foundation invites you to participate and support the organization by attending the Inaugural Gala<br />\nPerformances by current students and alum of Poughkeepsie High School!<br />\nStories and memories from each decade 1940s-present! Silent auction with online bidding!
LOCATION:Online\, virtually
UID:e.2770.10485126
SEQUENCE:3
DTSTAMP:20260421T100212Z
URL:http://dutchesscountyregional.smartcms.site/events/details/the-poughkeepsie-public-schools-foundation-inaugural-gala-10485126
END:VEVENT

END:VCALENDAR
