BEGIN:VCALENDAR
VERSION:2.0
PRODID:-//ChamberMaster//Event Calendar 2.0//EN
METHOD:PUBLISH
X-PUBLISHED-TTL:P3D
REFRESH-INTERVAL:P3D
CALSCALE:GREGORIAN
BEGIN:VEVENT
DTSTART:20190504T220000Z
DTEND:20190505T010000Z
X-MICROSOFT-CDO-ALLDAYEVENT:FALSE
SUMMARY:The Rewind: Back to the 80s!
DESCRIPTION:Join The Leadership Dutchess Class of 2019 for a throwback to where it all started for Leadership Dutchess...1989! Get your fellow classmates\, co-workers\, friends and family together to enjoy a night filled with 80s music and dancing\, raffles\, tricky tray auction\, best dressed contest\, great food and more! \n\n\n\nAll proceeds will benefit The Chamber Foundation\, Inc. programming.\n\n\n\nExclusive Raffle Ticket Opportunity: For $40\, you will get two chances to win 2 tickets to see Billy Joel perform at Madison Square Garden and an overnight hotel stay in Manhattan. Do not need to be present at event to win.\n\n\n\n \n\n30th Anniversary\n\nBack to the Future Sponsors:\n\nMid-Hudson Valley Federal Credit Union\n\nPoughkeepsie Galleria\n\n\n\nDirty Dancing Diamond Sponsors: \n\nMobile Life Support Services\, Inc.\n\nRondout Savings Bank\n\nTompkins Mahopac Bank\n\nWalden Savings Bank\n\n\n\nGolden Girls Sponsors:\nAdams Fairacre Farms\n\nBrinckerhoff & Neuville/Hanover Insurance Group\n\nGEODIS\n\nGordon Fire Equipment\n\nUlster Savings Bank\n\nVeith Electric\n\n\n\nThriller Silver Sponsors:\n\nBond\, Shoeneck & King Attorneys\n\nThe Chazen Companies\n\nGold's Gym\n\nHudson Valley Federal Credit Union\n\nMeyer Contracting Corp.\n\nMount Saint Mary College\n\nNorthwestern Mutual\n\nPaul Conrad of Real Property Abstract & Title Services\, LLC \n\nPoughkeepsie Grand Hotel\n\nRBT CPAs\, LLP\n\nRhinebeck Bank\n\nUnited Way of Dutchess-Orange Region\n\n\n\nBreakfast Club Bronze Sponsors:\n\nA&R Security\n\nAccess Physical Therapy & Wellness\n\nAnderson Center for Autism\n\nArthur DeDominicis\, CPA\n\nThe Bukantis Family\n\nChildren's Home of Poughkeepsie\n\nDutchess Bier Cafe\n\nFortress Financial Advisory\, LLC\n\nFriendly Honda\n\nHudson Valley Social Media\n\nImpact PR & Communications\n\nLeonard & Sherre Davis\n\nLevine & Levine\, PLLC\n\nMarketing Inbound\n\nNTC Auto Body\n\nPoughkeepsie Plaza\n\nResidential Home Funding\n\nRonald J. Piccone\, CPA\n\nRoyal Carting Service Company\n\nSayegh Law\n\nStewart's Shops\n\nTaconic Resources for Independence\n\nTariq Bailey/Mortgage Depot\n\nWainwright Financial Soluntions\n\n\n\nMedia Sponsor:\n\niHeart Media of the Hudson Valley
X-ALT-DESC;FMTTYPE=text/html:<br />\n<span style="font-size: 16px\;"><span style="font-family: times new roman\;"><strong>Join The Leadership Dutchess Class of 2019 for a throwback to where it all started for Leadership Dutchess...1989! Get your fellow classmates\, co-workers\, friends and family together to enjoy a night filled with 80s music and dancing\, raffles\, tricky tray auction\, best dressed contest\, great food and more!&#8203\;<br />\n<br />\nAll proceeds will benefit The Chamber Foundation\, Inc. programming.</strong><br />\n<br />\n<em><strong>Exclusive Raffle Ticket Opportunity</strong></em>: <em>For $40\, you will get two chances to win 2 tickets to see Billy Joel perform at Madison Square Garden and an overnight hotel stay in Manhattan. Do not need to be present at event to win.</em></span></span><br />\n<br />\n&nbsp\;<br />\n<span style="font-size: 18px\;"><span style="font-family: garamond\,serif\;">30th Anniversary</span><br />\n<em><span style="font-family: garamond\,serif\;">Back to the Future Sponsors</span></em></span><strong><span style="font-family: garamond\,serif\;"><span style="font-size: medium\;">:<br />\n<span style="font-size: 16px\;"><a href="https://www.mhvfcu.com/" target="_blank"><span style="color: rgb(0\, 0\, 255)\;">Mid-Hudson Valley Federal Credit Union</span></a><br />\n<a href="https://www.poughkeepsiegalleriamall.com/" target="_blank"><span style="color: blue\;">Poughkeepsie Galleria</span></a></span></span></span></strong><br />\n<br />\n<span style="font-family: garamond\,serif\;"><span style="font-size: medium\;"><em><span style="font-size: 18px\;">Dirty Dancing Diamond&nbsp\;Sponsors</span></em><strong>: </strong><br />\n<span style="font-size: 16px\;"><strong><a href="http://www.mobilelife.com/" target="_blank"><span style="color: rgb(0\, 0\, 255)\;">Mobile Life Support Services\, Inc.</span></a><br />\n<a href="https://www.rondoutbank.com/" target="_blank"><span style="color: rgb(0\, 0\, 255)\;">Rondout Savings Bank</span></a><br />\n<a href="https://www.mahopacbank.com/" target="_blank"><span style="color: rgb(0\, 0\, 255)\;">Tompkins Mahopac Bank</span></a><br />\n<a href="https://waldensavings.bank/" target="_blank"><span style="color: rgb(0\, 0\, 255)\;">Walden Savings Bank</span></a></strong></span></span></span><br />\n<br />\n<span style="font-size: 18px\;"><em><span style="font-family: garamond\,serif\;">Golden Girls&nbsp\;Sponsors</span></em></span><strong><span style="font-family: garamond\,serif\;"><span style="font-size: medium\;">:</span></span></strong>\n<p style="margin: 0in 0in 8pt\;"><span style="font-size: 16px\;"><a href="https://adamsfarms.com/" target="_blank"><strong><font color="#0000ff" face="Garamond">Adams Fairacre Farms</font></strong></a><br />\n<a href="https://www.brinckerhoffandneuville.com/" target="_blank"><strong><font color="#0000ff" face="Garamond">Brinckerhoff &amp\; Neuville/Hanover Insurance Group</font></strong></a><br />\n<a href="http://www.geodis.com" target="_blank"><strong><font color="#0000ff" face="Garamond">GEODIS</font></strong></a><br />\n<a href="http://www.gordonfire.com/)" target="_blank"><strong><font color="#0000ff" face="Garamond">Gordon Fire Equipment</font></strong></a><br />\n<a href="https://www.ulstersavings.com/home/home" target="_blank"><strong><font color="#0000ff" face="Garamond">Ulster Savings Bank</font></strong></a><br />\n<a href="http://veithelectric.com/" target="_blank"><strong><font color="#0000ff" face="Garamond">Veith Electric</font></strong></a></span><br />\n<br />\n<span style="font-size: 18px\;"><em><span style="font-family: garamond\,serif\;">Thriller Silver&nbsp\;Sponsors</span></em></span><strong><span style="font-family: garamond\,serif\;"><span style="font-size: medium\;">:</span></span></strong><br />\n<span style="font-size: 16px\;"><a href="https://www.bsk.com/" target="_blank"><span style="color: rgb(0\, 0\, 255)\;"><strong><font face="Garamond">Bond\, Shoeneck &amp\; King Attorneys</font></strong></span></a><br />\n<strong><span style="font-family: garamond\,serif\;"><a href="https://www.chazencompanies.com/" target="_blank"><span style="color: rgb(0\, 0\, 255)\;">The Chazen Companies</span></a></span></strong><br />\n<a href="https://www.goldsgym.com/" target="_blank"><strong><font color="#0000ff" face="Garamond">Gold&#39\;s Gym</font></strong></a><br />\n<a href="https://www.hvfcu.org/" target="_blank"><span style="color: rgb(0\, 0\, 255)\;"><strong><font face="Garamond">Hudson Valley Federal Credit Union</font></strong></span></a><br />\n<a href="https://meyercontracting.com/" target="_blank"><span style="color: rgb(0\, 0\, 255)\;"><strong><font face="Garamond">Meyer Contracting Corp.</font></strong></span></a><br />\n<strong><font color="#0000ff" face="Garamond"><strong><a href="https://www.msmc.edu/" target="_blank"><span style="color: rgb(0\, 0\, 255)\;">Mount Saint Mary College</span></a><br />\n<a href="https://www.northwesternmutual.com/" target="_blank"><span style="color: rgb(0\, 0\, 255)\;">Northwestern Mutual</span></a><br />\n<a href="http://realpropertyabstract.net/" target="_blank"><span style="color: rgb(0\, 0\, 255)\;">Paul Conrad of Real Property Abstract &amp\; Title Services\, LLC&nbsp\;</span></a></strong></font></strong><br />\n<a href="https://www.pokgrand.com/" target="_blank"><span style="color: rgb(0\, 0\, 255)\;"><strong><font face="Garamond">Poughkeepsie Grand Hotel</font></strong></span></a><br />\n<a href="https://www.rbtcpas.com/" target="_blank"><span style="color: rgb(0\, 0\, 255)\;"><strong><font face="Garamond">RBT CPAs\, LLP</font></strong></span></a><br />\n<strong><font face="Garamond"><strong><a href="https://www.rhinebeckbank.com/" target="_blank"><span style="color: rgb(0\, 0\, 255)\;">Rhinebeck Bank</span></a></strong></font></strong><br />\n<a href="http://www.uwdor.org/" target="_blank"><strong><font color="#0000ff" face="Garamond">United Way of Dutchess-Orange Region</font></strong></a></span><br />\n<br />\n<span style="font-size: 18px\;"><em><span style="font-family: garamond\,serif\;">Breakfast Club Bronze&nbsp\;Sponsors</span></em></span><strong><span style="font-family: garamond\,serif\;"><span style="font-size: medium\;">:</span></span></strong><br />\n<span style="font-size: 16px\;"><a href="http://www.aparosesecurity.net/" target="_blank"><span style="color: rgb(0\, 0\, 255)\;"><font face="Garamond"><b>A&amp\;R Security</b></font></span></a></span><br />\n<span style="font-size: 16px\;"><a href="https://www.accessphysicaltherapywellness.com/" target="_blank"><span style="color: rgb(0\, 0\, 255)\;"><font face="Garamond"><b>Access Physical Therapy &amp\; Wellness</b></font></span></a><br />\n<a href="https://www.andersoncenterforautism.org/" target="_blank"><span style="color: rgb(0\, 0\, 255)\;"><font face="Garamond"><b>Anderson Center for Autism</b></font></span></a><br />\n<strong><a href="http://artcpa.com/" target="_blank"><font color="#0000ff" face="Garamond">Arthur DeDominicis\, CPA</font></a></strong><br />\n<span style="font-family: garamond\,serif\;"><span style="color: rgb(0\, 0\, 255)\;"><strong>The Bukantis Family</strong></span></span><br />\n<strong><font color="#0000ff" face="Garamond"><strong><span style="font-family: garamond\,serif\;"><a href="https://www.childrenshome.us/" target="_blank"><span style="color: rgb(0\, 0\, 255)\;">Children&#39\;s Home of Poughkeepsie</span></a></span></strong></font><br />\n<font face="Garamond"><a href="https://www.thedutchessbiercafe.com/" target="_blank"><span style="color: rgb(0\, 0\, 255)\;">Dutchess Bier Cafe</span></a></font><br />\n<font face="Garamond"><strong><span style="font-family: garamond\,serif\;"><a href="http://concierge.lifemark.com/WilliamFrancis" target="_blank"><span style="color: rgb(0\, 0\, 255)\;">Fortress Financial Advisory\, LLC</span></a></span></strong></font></strong><br />\n<a href="https://www.friendlyhonda.net/" target="_blank"><span style="color: rgb(0\, 0\, 255)\;"><strong><font face="Garamond">Friendly Honda</font></strong></span></a><br />\n<a href="http://www.HVSocialMedia.com" target="_blank"><span style="color: rgb(0\, 0\, 255)\;"><strong><font face="Garamond">Hudson Valley Social Media</font></strong></span></a><br />\n<strong><strong><a href="https://prwithimpact.com/" target="_blank"><font color="#0000ff" face="Garamond">Impact PR &amp\; Communications</font></a></strong><br />\n<font color="#0000ff"><font face="Garamond">Leonard &amp\; Sherre Davis</font></font><br />\n<a href="https://www.levinelevinelaw.com/" target="_blank"><span style="color: rgb(0\, 0\, 255)\;"><font face="Garamond">Levine &amp\; Levine\, PLLC</font></span></a><br />\n<font face="Garamond"><strong><span style="font-family: garamond\,serif\;"><a href="http://www.marketinginboundny.com" target="_blank"><span style="color: rgb(0\, 0\, 255)\;">Marketing Inbound</span></a></span></strong></font></strong><br />\n<a href="https://www.ntcautobodyandglass.com/" target="_blank"><span style="font-family: garamond\,serif\;"><span style="color: rgb(0\, 0\, 255)\;"><strong>NTC Auto Body</strong></span></span></a><br />\n<strong><font color="#0000ff" face="Garamond"><strong><span style="font-family: garamond\,serif\;"><a href="https://poughkeepsieplaza.com/" target="_blank"><span style="color: rgb(0\, 0\, 255)\;">Poughkeepsie Plaza</span></a></span></strong></font></strong><br />\n<a href="https://www.gorhf.com/den" target="_blank"><span style="font-family: garamond\,serif\;"><span style="color: rgb(0\, 0\, 255)\;"><strong>Residential Home Funding</strong></span></span></a><br />\n<strong><font color="#0000ff" face="Garamond"><strong><span style="font-family: garamond\,serif\;"><span style="color: rgb(0\, 0\, 255)\;">Ronald J. Piccone\, CPA</span></span></strong></font></strong><br />\n<strong><a href="https://www.royalcarting.us/royal-home" target="_blank"><font color="#0000ff" face="Garamond">Royal Carting Service Company</font></a><br />\n<font face="Garamond"><a href="http://sayeghlaw.com/" target="_blank"><span style="color: rgb(0\, 0\, 255)\;">Sayegh Law</span></a></font></strong><br />\n<span style="font-family: garamond\,serif\;"><a href="https://www.stewartsshops.com/" target="_blank"><span style="color: rgb(0\, 0\, 255)\;"><strong>Stewart&#39\;s Shops</strong></span></a><br />\n<a href="https://taconicresources.org/" target="_blank"><span style="color: rgb(0\, 0\, 255)\;"><strong>Taconic Resources for Independence</strong></span></a></span><br />\n<a href="http://www.mortgagedepot.com" target="_blank"><span style="font-family: garamond\,serif\;"><span style="color: rgb(0\, 0\, 255)\;"><strong>Tariq Bailey/Mortgage Depot</strong></span></span></a><br />\n<a href="http://www.wainwrightfinancialsolutions.com/" target="_blank"><span style="font-family: garamond\,serif\;"><span style="color: rgb(0\, 0\, 255)\;"><strong>Wainwright Financial Soluntions</strong></span></span></a></span><br />\n<br />\n<span style="font-size: 18px\;"><em><span style="font-family: garamond\,serif\;">Media&nbsp\;Sponsor</span></em></span><strong><span style="font-family: garamond\,serif\;"><span style="font-size: medium\;">:</span></span><br />\n<span style="font-size: 16px\;"><font color="#0000ff" face="Garamond"><strong><font face="Garamond"><a href="https://www.facebook.com/iHeartMediaHV/" target="_blank"><span style="color: rgb(0\, 0\, 255)\;">iHeart Media of the Hudson Valley</span></a></font></strong></font></span></strong></p>\n
LOCATION:Poughkeepsie Tennis Club 135 S Hamilton Street Poughkeepsie
UID:e.2770.10480497
SEQUENCE:3
DTSTAMP:20260423T035035Z
URL:http://dutchesscountyregional.smartcms.site/events/details/the-rewind-back-to-the-80s-10480497
END:VEVENT

END:VCALENDAR
