BEGIN:VCALENDAR
VERSION:2.0
PRODID:-//ChamberMaster//Event Calendar 2.0//EN
METHOD:PUBLISH
X-PUBLISHED-TTL:P3D
REFRESH-INTERVAL:P3D
CALSCALE:GREGORIAN
BEGIN:VEVENT
DTSTART:20200123T001500Z
DTEND:20200223T011500Z
X-MICROSOFT-CDO-ALLDAYEVENT:FALSE
SUMMARY:The Sandy Macdonald Developmental Program Step 3
DESCRIPTION:REGISTER TODAY! Step 3 Skill Builder Open to boys & girls ages 9 14! The Sandy MacDonald Step 3 Developmental Program is a low cost\, low commitment hockey program for players who have completed the Learn to Play Program (Step 2) and want to improve their skills to join our travel hockey league. The In-House development program focuses on teaching basic to advanced hockey skills and sportsmanship in a no check\, low pressure environment that fosters a love of hockey.
X-ALT-DESC;FMTTYPE=text/html:REGISTER TODAY! Step 3 Skill Builder Open to boys &amp\; girls ages 9&ndash\;14! The Sandy MacDonald Step 3 Developmental Program is a low cost\, low commitment hockey program for players who have completed the Learn to Play Program (Step 2) and want to improve their skills to join our travel hockey league. The In-House development program focuses on teaching basic to advanced hockey skills and sportsmanship in a no check\, low pressure environment that fosters a love of hockey.
LOCATION:Ice Time Sports Complex Newburgh\, NY
UID:e.2770.10482690
SEQUENCE:3
DTSTAMP:20260422T103005Z
URL:http://dutchesscountyregional.smartcms.site/events/details/the-sandy-macdonald-developmental-program-step-3-10482690
END:VEVENT

END:VCALENDAR
