BEGIN:VCALENDAR
VERSION:2.0
PRODID:-//ChamberMaster//Event Calendar 2.0//EN
METHOD:PUBLISH
X-PUBLISHED-TTL:P3D
REFRESH-INTERVAL:P3D
CALSCALE:GREGORIAN
BEGIN:VEVENT
DTSTART:20210323T130000Z
DTEND:20210323T140000Z
X-MICROSOFT-CDO-ALLDAYEVENT:FALSE
SUMMARY:Three Things to Know Before Certification
DESCRIPTION:Are you a woman/minority owned business interested in certification?  This webinar will provide tips to help build the foundation necessary to succeed as an MWBE before starting the application process.\n\n\n\nTopics:\n\nWhen is your business ready for certification?\n\nWhat is past performance?\n\nHow to prepare your business for the market\n\n\n\nPresented by: WEDC's MWBE Specialist\, Zacha Tuttle
X-ALT-DESC;FMTTYPE=text/html:<p><span style="font-size:16px"><strong>Are you a woman/minority owned business interested in certification?</strong>&nbsp\; This webinar will provide tips to help build the foundation necessary to succeed as an MWBE before starting the application process.<br />\n<br />\n<strong>Topics:</strong><br />\nWhen is your business ready for certification?<br />\nWhat is past performance?<br />\nHow to prepare your business for the market<br />\n<br />\n<strong>Presented by:</strong> WEDC&#39\;s MWBE Specialist\, Zacha Tuttle</span></p>\n
LOCATION:Online
UID:e.2770.10485001
SEQUENCE:3
DTSTAMP:20260421T144940Z
URL:http://dutchesscountyregional.smartcms.site/events/details/three-things-to-know-before-certification-10485001
END:VEVENT

END:VCALENDAR
