BEGIN:VCALENDAR
VERSION:2.0
PRODID:-//ChamberMaster//Event Calendar 2.0//EN
METHOD:PUBLISH
X-PUBLISHED-TTL:P3D
REFRESH-INTERVAL:P3D
CALSCALE:GREGORIAN
BEGIN:VEVENT
DTSTART:20210511T213000Z
DTEND:20210511T223000Z
X-MICROSOFT-CDO-ALLDAYEVENT:FALSE
SUMMARY:Tompkins Mahopac Bank Hosts Free First-Time Homebuyers Webinar
DESCRIPTION:Would-be buyers\, take note: Tompkins Mahopac Bank (TMB) is hosting a free webinar for people looking to make the leap into first-time homeownership in Dutchess\, Putnam and Westchester counties. Open to the public\, the workshop will be held online on Tuesday\, May 11\, from 5:30 to 6:30 p.m. and will cover available first-time homebuyer programs and services\, along with the opportunity to ask questions of the panel. Log-in information will be provided upon registration\; to sign up\, or for more information\, visit First-Time Home Buyer Webinar (mahopacbank.com). Expert presenters include: Tompkins Mahopac Bank's Vice President of Residential Lending David Carey\; Residential Mortgage Loan Originator Glenn Wu\; Mortgage Loan Assistant Catherine Gallagher\; and Branch Administrator Carol Schmitz
X-ALT-DESC;FMTTYPE=text/html:Would-be buyers\, take note: Tompkins Mahopac Bank (TMB) is hosting a free webinar for people looking to make the leap into first-time homeownership in Dutchess\, Putnam and Westchester counties. Open to the public\, the workshop will be held online on Tuesday\, May 11\, from 5:30 to 6:30 p.m. and will cover available first-time homebuyer programs and services\, along with the opportunity to ask questions of the panel. Log-in information will be provided upon registration\; to sign up\, or for more information\, visit First-Time Home Buyer Webinar (mahopacbank.com). Expert presenters include: Tompkins Mahopac Bank&rsquo\;s Vice President of Residential Lending David Carey\; Residential Mortgage Loan Originator Glenn Wu\; Mortgage Loan Assistant Catherine Gallagher\; and Branch Administrator Carol Schmitz
LOCATION:Virtual
UID:e.2770.10485105
SEQUENCE:3
DTSTAMP:20260421T101410Z
URL:http://dutchesscountyregional.smartcms.site/events/details/tompkins-mahopac-bank-hosts-free-first-time-homebuyers-webinar-10485105
END:VEVENT

END:VCALENDAR
