BEGIN:VCALENDAR
VERSION:2.0
PRODID:-//ChamberMaster//Event Calendar 2.0//EN
METHOD:PUBLISH
X-PUBLISHED-TTL:P3D
REFRESH-INTERVAL:P3D
CALSCALE:GREGORIAN
BEGIN:VEVENT
DTSTART:20210223T223000Z
DTEND:20210223T223000Z
X-MICROSOFT-CDO-ALLDAYEVENT:FALSE
SUMMARY:Tompkins Mahopac Bank to Host Free First-Time Homebuyers Seminar on February 23
DESCRIPTION:Tompkins Mahopac Bank (TMB) has teamed up with Hudson River Housing to host a virtual First-Time Homebuyers Seminar for would-be buyers in Dutchess\, Putnam and Westchester counties. Open to the public\, the free workshop will be held online on Tuesday\, Feb. 23\, from 5:30   6:30 p.m. and will cover the available programs and services geared toward homeownership\, from consideration to contract. Log-in information will be provided upon registration\; to sign up\, or for more information\, visit https://webinar.mahopacbank.com/first-time-home-buyer-webinar-feb-2021
X-ALT-DESC;FMTTYPE=text/html:<span style="font-family:calibri\,sans-serif"><span style="font-size:11.0pt"><a href="https://www.mahopacbank.com/"><span style="font-family:times new roman\,serif">Tompkins Mahopac Bank</span></a></span></span><span style="font-family:times new roman\,serif"><span style="font-size:11.0pt"> (TMB)</span></span> <span style="color:windowtext"><span style="font-family:times new roman\,serif"><span style="font-size:11pt">has teamed up with Hudson River Housing to host a virtual </span></span></span><span style="font-family:times new roman\,serif"><span style="font-size:11.0pt">First-Time Homebuyers Seminar for would-be buyers in Dutchess\, Putnam and Westchester counties. Open to the public\, the free workshop will be held online on Tuesday\, Feb. 23\, from 5:30 &ndash\; 6:30 p.m. and will cover the available programs and services geared toward homeownership\, from consideration to contract. Log-in information will be provided upon registration\; to sign up\, or for more information\, visit </span></span><span style="font-family:calibri\,sans-serif"><span style="font-size:11.0pt"><a href="https://linkprotect.cudasvc.com/url?a=https%3a%2f%2fwebinar.mahopacbank.com%2ffirst-time-home-buyer-webinar-feb-2021&amp\;c=E\,1\,RjoLJaK5GMb03o5__dwKd0uPFINTKfLFAnk9LCuR2bk3J-_hjCnVgbFKupMhIOrTXXm-VN4GynasyUwORlfZjNsf5ILvJQcgDHhP9yqtI57YNXnLnttXlA\,\,&amp\;typo=1">https://webinar.mahopacbank.com/first-time-home-buyer-webinar-feb-2021</a></span></span>
LOCATION:Virtual
UID:e.2770.10484996
SEQUENCE:3
DTSTAMP:20260421T145541Z
URL:http://dutchesscountyregional.smartcms.site/events/details/tompkins-mahopac-bank-to-host-free-first-time-homebuyers-seminar-on-february-23-10484996
END:VEVENT

END:VCALENDAR
