BEGIN:VCALENDAR
VERSION:2.0
PRODID:-//ChamberMaster//Event Calendar 2.0//EN
METHOD:PUBLISH
X-PUBLISHED-TTL:P3D
REFRESH-INTERVAL:P3D
CALSCALE:GREGORIAN
BEGIN:VEVENT
DTSTART:20190313T173000Z
DTEND:20190313T190000Z
X-MICROSOFT-CDO-ALLDAYEVENT:FALSE
SUMMARY:Dutchess Tourism's 2019 Lunch & Learn Seminar - Tools of the Trade: Proven Ways to Get Positive Publicity
DESCRIPTION:Dutchess Tourism\, Inc. hosts a Lunch & Learn Seminar for tourism-related businesses but anyone is welcome to attend. Participants are encouraged to bring their lunches to eat while they listen to the presentation. There will also be time for networking with other participants and the speaker(s). Kacie Vassari\, DTI's communications specialist\, will kick off each seminar with a short social media tips and tricks segment.\n\n\n\nGuest Presenter: Filomena Fanelli\, CEO/Founder\, Impact PR & Communications \n\nWish you could harness the power of PR to highlight your small business\, attract locals and tourists\, or secure support or patronage for your organization\, but don't know where to start? If so\, join public relations professional Filomena Fanelli for this hands-on seminar and tutorial on how to make the most of opportunities to shine the spotlight on your company. Attendees will walk away with best practices and concrete tips and templates to secure media placements\, get events listed in regional calendars\, capitalize on key moments   and better understand what news outlets expect and how to best respond to inquiries.
X-ALT-DESC;FMTTYPE=text/html:Dutchess Tourism\, Inc. hosts a Lunch &amp\; Learn Seminar for tourism-related businesses but anyone is welcome to attend. Participants are encouraged to bring their lunches to eat while they listen to the presentation. There will also be time for networking with other participants and the speaker(s). Kacie Vassari\, DTI&rsquo\;s communications specialist\, will kick off each seminar with a short social media tips and tricks segment.<br />\n<br />\n<em>Guest Presenter: Filomena Fanelli\, CEO/Founder\, Impact PR &amp\; Communications </em><br />\nWish you could harness the power of PR to highlight your small business\, attract locals and tourists\, or secure support or patronage for your organization\, but don&rsquo\;t know where to start? If so\, join public relations professional Filomena Fanelli for this hands-on seminar and tutorial on how to make the most of opportunities to shine the spotlight on your company. Attendees will walk away with best practices and concrete tips and templates to secure media placements\, get events listed in regional calendars\, capitalize on key moments &ndash\; and better understand what news outlets expect and how to best respond to inquiries.
LOCATION:SPRINGHILL SUITES RESIDENCE INN 500 Westage Business Center Drive\, Fishkill 12524 * (845) 896-8100
UID:e.2770.10480498
SEQUENCE:3
DTSTAMP:20260423T072235Z
URL:http://dutchesscountyregional.smartcms.site/events/details/tools-of-the-trade-proven-ways-to-get-positive-publicity-10480498
END:VEVENT

END:VCALENDAR
