BEGIN:VCALENDAR
VERSION:2.0
PRODID:-//ChamberMaster//Event Calendar 2.0//EN
METHOD:PUBLISH
X-PUBLISHED-TTL:P3D
REFRESH-INTERVAL:P3D
CALSCALE:GREGORIAN
BEGIN:VEVENT
DTSTART:20210617T220000Z
DTEND:20210617T230000Z
X-MICROSOFT-CDO-ALLDAYEVENT:FALSE
SUMMARY:Ulster Savings Bank Offers FREE Virtual Cyber Security Seminar
DESCRIPTION:Cyber incidents are in the news constantly these days. And in the increasingly connected world of ours\, it seems private information is only a keystroke away from becoming public knowledge.\n\n\n\nJoin US for a FREE Virtual Cyber Security Seminar!\n\nWith Guest Speaker Joe Gates\, Regional Manager Beazley Group          \n\nThursday\, June 17\, 2021\, 6 7 pm ET\n\nRegister online at UlsterSavings.com or HERE\n\n\n\nAny business that collects Personally Identifiable Information (PII) or Personal Health Information (PHI) has a potential exposure and a legal obligation to protect such information. What's more\, cyber incidents are no longer only the concern of those businesses that collect and store PII and PHI. With the rise of ransomware\, social engineering\, and other exposures\, no business is immune to the dangers posed by these threats.\n\n\n\nPlease join us for this presentation in which you will learn how your business may be at risk and what you can do to protect yourself.\n\n\n\nProducts and services available through Ulster Insurance Services\, Inc.\, a subsidiary of Ulster Savings Bank\, are NOT FDIC INSURED.
X-ALT-DESC;FMTTYPE=text/html:Cyber incidents are in the news constantly these days. And in the increasingly connected world of ours\, it seems private information is only a keystroke away from becoming public knowledge.<br />\n<br />\n<span style="font-family:calibri\,sans-serif"><span style="font-size:11.0pt">Join US for a FREE Virtual Cyber Security Seminar!<br />\nWith Guest Speaker Joe Gates\, Regional Manager&mdash\;Beazley Group&nbsp\;&nbsp\;&nbsp\;&nbsp\;&nbsp\;&nbsp\;&nbsp\;&nbsp\;&nbsp\;&nbsp\;<br />\nThursday\, June 17\, 2021\, 6<strong>&ndash\;</strong>7 pm ET<br />\nRegister online at UlsterSavings.com or <strong><a href="https://www.ulstersavings.com/why-us/seminars/#section_CyberSecuritySeminar">HERE</a></strong></span></span><br />\n<br />\nAny business that collects Personally Identifiable Information (PII) or Personal Health Information (PHI) has a potential exposure and a legal obligation to protect such information. What&rsquo\;s more\, cyber incidents are no longer only the concern of those businesses that collect and store PII and PHI. With the rise of ransomware\, social engineering\, and other exposures\, no business is immune to the dangers posed by these threats.<br />\n<br />\nPlease join us for this presentation in which you will learn how your business may be at risk and what you can do to protect yourself.<br />\n<br />\nProducts and services available through Ulster Insurance Services\, Inc.\, a subsidiary of Ulster Savings Bank\, are NOT FDIC INSURED.<br />\n<br />\n<br />\n&nbsp\;
LOCATION:Virtual
UID:e.2770.10485232
SEQUENCE:3
DTSTAMP:20260421T100612Z
URL:http://dutchesscountyregional.smartcms.site/events/details/ulster-savings-bank-offers-free-virtual-cyber-security-seminar-10485232
END:VEVENT

END:VCALENDAR
