BEGIN:VCALENDAR
VERSION:2.0
PRODID:-//ChamberMaster//Event Calendar 2.0//EN
METHOD:PUBLISH
X-PUBLISHED-TTL:P3D
REFRESH-INTERVAL:P3D
CALSCALE:GREGORIAN
BEGIN:VEVENT
DTSTART:20210519T213000Z
DTEND:20210519T223000Z
X-MICROSOFT-CDO-ALLDAYEVENT:FALSE
SUMMARY:Ulster Savings Bank Virtual Long Term Care Seminar
DESCRIPTION:While most of us hope to be healthy well into our 90s\, none of us know how much time we have. However\, we can plan for the unexpected so we can be taken care of along the way. Creating a plan is crucial to ensure you won't outlive your income and the earlier you plan\, the longer your assets have for potential growth to help outpace inflation. And\, if you're considering long-term care insurance\, the younger you are when you purchase a plan\, the less costly the premiums. Join Ulster Savings Bank for a free virtual Long Term Care seminar on Wednesday\, May 19\, 2021 from 5:30   6:30 PM ET with guest speaker\, Mike Soulis CLTC\, regional manager at WealthVest. To register\, visit: https://cetera.zoom.us/meeting/register/tJMkfuivqTgrGN1-w6Q1Ac7vGYtOANNvHMBu
X-ALT-DESC;FMTTYPE=text/html:While most of us hope to be healthy well into our 90s\, none of us know how much time we have. However\, we can plan for the unexpected so we can be taken care of along the way. Creating a plan is crucial to ensure you won&rsquo\;t outlive your income and the earlier you plan\, the longer your assets have for potential growth to help outpace inflation. And\, if you&rsquo\;re considering long-term care insurance\, the younger you are when you purchase a plan\, the less costly the premiums. Join Ulster Savings Bank for a free virtual Long Term Care seminar on Wednesday\, May 19\, 2021 from 5:30 &ndash\; 6:30 PM ET with guest speaker\, Mike Soulis CLTC\, regional manager at WealthVest. To register\, visit: https://cetera.zoom.us/meeting/register/tJMkfuivqTgrGN1-w6Q1Ac7vGYtOANNvHMBu
LOCATION:
UID:e.2770.10485117
SEQUENCE:3
DTSTAMP:20260421T114744Z
URL:http://dutchesscountyregional.smartcms.site/events/details/ulster-savings-bank-virtual-long-term-care-seminar-10485117
END:VEVENT

END:VCALENDAR
