BEGIN:VCALENDAR
VERSION:2.0
PRODID:-//ChamberMaster//Event Calendar 2.0//EN
METHOD:PUBLISH
X-PUBLISHED-TTL:P3D
REFRESH-INTERVAL:P3D
CALSCALE:GREGORIAN
BEGIN:VEVENT
DTSTART:20200603T170000Z
DTEND:20200603T180000Z
X-MICROSOFT-CDO-ALLDAYEVENT:FALSE
SUMMARY:Uncharted Waters\; Navigating Stock Market Volatility In A Coronavirus Environment Webinar hosted by John Leigh from Edward Jones
DESCRIPTION:If you are concerned about your investments right now\, you are not alone. Experienced investors know the market is cyclical\, and extreme volatility can create unease and uncertainty.  \n\n\n\nJoin our presentation to learn more about:\n\n \n\n	\n		\n			\n			\n				 \n			\n			\n			Today's markets in historical context and perspective.\n		\n	\n\n\n\n	\n		\n			\n			\n				 \n			\n			\n			How our emotions affect decision-making.\n		\n	\n\n\n\n	\n		\n			\n			\n				 \n			\n			\n			Three strategies to help live with market volatility.
X-ALT-DESC;FMTTYPE=text/html:If you are concerned about your investments right now\, you are not alone. Experienced investors know the market is cyclical\, and extreme volatility can create unease and uncertainty.&nbsp\;&nbsp\;<br />\n<br />\nJoin our presentation to learn more about:<br />\n&nbsp\;\n<table>\n	<tbody>\n		<tr>\n			<td>\n			<ul>\n				<li>&nbsp\;</li>\n			</ul>\n			</td>\n			<td>Today&#39\;s markets in historical context and perspective.</td>\n		</tr>\n	</tbody>\n</table>\n\n<table>\n	<tbody>\n		<tr>\n			<td>\n			<ul>\n				<li>&nbsp\;</li>\n			</ul>\n			</td>\n			<td>How our emotions affect decision-making.</td>\n		</tr>\n	</tbody>\n</table>\n\n<table>\n	<tbody>\n		<tr>\n			<td>\n			<ul>\n				<li>&nbsp\;</li>\n			</ul>\n			</td>\n			<td>Three strategies to help live with market volatility.&nbsp\;&nbsp\;</td>\n		</tr>\n	</tbody>\n</table>\n
LOCATION:Online Webinar
UID:e.2770.10483292
SEQUENCE:3
DTSTAMP:20260422T034856Z
URL:http://dutchesscountyregional.smartcms.site/events/details/uncharted-waters-navigating-stock-market-volatility-in-a-coronavirus-environment-webinar-hosted-by-john-leigh-from-edward-jones-10483292
END:VEVENT

END:VCALENDAR
