BEGIN:VCALENDAR
VERSION:2.0
PRODID:-//ChamberMaster//Event Calendar 2.0//EN
METHOD:PUBLISH
X-PUBLISHED-TTL:P3D
REFRESH-INTERVAL:P3D
CALSCALE:GREGORIAN
BEGIN:VEVENT
DTSTART:20210512T150000Z
DTEND:20210512T160000Z
X-MICROSOFT-CDO-ALLDAYEVENT:FALSE
SUMMARY:Understanding and Responding to Dementia-Related Behavior
DESCRIPTION:Join us for a free virtual program by the Alzheimer's Association. Behavior is one of the primary ways people with dementia communicate their needs and feelings once the ability to lose language is lost. Learn to decode common behaviors so you can connect at every stage of the disease. For more information or to RSVP\, call the Alzheimer's Association at 800.272.3900.
X-ALT-DESC;FMTTYPE=text/html:<p><span style="color:rgb(0\, 0\, 0)\; font-family:times new roman\; font-size:12pt">Join us for a free virtual program by the Alzheimer&rsquo\;s Association</span><span style="color:rgb(255\, 0\, 0)\; font-family:times new roman\; font-size:12pt">.</span><strong>&nbsp\;</strong><span style="color:rgb(34\, 34\, 34)\; font-family:times new roman\; font-size:12pt">Behavior is one of the primary ways people with dementia communicate their needs and feelings once the ability to lose language is lost. Learn to decode common behaviors so you can connect at every stage of the disease. For more information or to RSVP\, call the Alzheimer&rsquo\;s Association at&nbsp\;</span><span style="color:rgb(17\, 85\, 204)\; font-family:times new roman\; font-size:12pt">800.272.3900</span><span style="color:rgb(34\, 34\, 34)\; font-family:times new roman\; font-size:12pt">.&nbsp\;</span></p>\n
LOCATION:online
UID:e.2770.10485122
SEQUENCE:3
DTSTAMP:20260421T101232Z
URL:http://dutchesscountyregional.smartcms.site/events/details/understanding-and-responding-to-dementia-related-behavior-10485122
END:VEVENT

END:VCALENDAR
