BEGIN:VCALENDAR
VERSION:2.0
PRODID:-//ChamberMaster//Event Calendar 2.0//EN
METHOD:PUBLISH
X-PUBLISHED-TTL:P3D
REFRESH-INTERVAL:P3D
CALSCALE:GREGORIAN
BEGIN:VEVENT
DTSTART:20191207T150000Z
DTEND:20191207T190000Z
X-MICROSOFT-CDO-ALLDAYEVENT:FALSE
SUMMARY:Veteran Stand Down Event
DESCRIPTION:MHA Dutchess County Vet2Vet Program is hosting a Veteran Stand Down Event on Saturday\, December 7\, 2019 from 10:00 am   2:00 pm at Dutchess County Community College/Drumlin Hall/Greenspan Cafeteria.  This event hosts a free lunch for attendees\, as well as a plethora of free services which include/but are not limited to: Healthcare screenings\, Financial Services\, Homeless prevention assistance\, Legal services\, Recovery and Mental health providers\, Education counseling\, Dress for Success\, Veteran's Benefits\, and Employment Assistance.
X-ALT-DESC;FMTTYPE=text/html:<p><span style="color:rgb(31\, 73\, 125)\; font-family:calibri\,sans-serif\; font-size:11pt">MHA Dutchess County Vet2Vet Program is hosting a Veteran Stand Down Event on Saturday\, December 7\, 2019 from 10:00 am &ndash\; 2:00 pm at Dutchess County Community College/Drumlin Hall/Greenspan Cafeteria.&nbsp\; This event hosts a free lunch for attendees\, as well as a plethora of free services which include/but are not limited to: Healthcare screenings\, Financial Services\, Homeless prevention assistance\, Legal services\, Recovery and Mental health providers\, Education counseling\, Dress for Success\, Veteran&rsquo\;s Benefits\, and Employment Assistance.</span></p>\n\n<div>&nbsp\;</div>\n
LOCATION:Dutchess County Community College Drumlin Hall/Greenspan Cafeteria 53 Pendell Road Poughkeepise\, NY 12601
UID:e.2770.10482601
SEQUENCE:3
DTSTAMP:20260422T135601Z
URL:http://dutchesscountyregional.smartcms.site/events/details/veteran-stand-down-event-10482601
END:VEVENT

END:VCALENDAR
