BEGIN:VCALENDAR
VERSION:2.0
PRODID:-//ChamberMaster//Event Calendar 2.0//EN
METHOD:PUBLISH
X-PUBLISHED-TTL:P3D
REFRESH-INTERVAL:P3D
CALSCALE:GREGORIAN
BEGIN:VEVENT
DTSTART:20210501T050000Z
DTEND:20210517T035500Z
X-MICROSOFT-CDO-ALLDAYEVENT:FALSE
SUMMARY:Virtual 2021 Arlington Education Foundation 5K/1M Run/Walk
DESCRIPTION:Join the Arlington Education Foundation for a community-wide get out and get moving 5K/1M Run/Walk event for a good cause! Participate from anywhere between the dates of May 1st and May 16th. All participants will receive an event t-shirt and goodie bag along with access to the RaceJoy app to communicate with other participants while tracking your course and results. The Arlington Education Foundation is a non-profit 501(c)(3) investing in educational excellence.
X-ALT-DESC;FMTTYPE=text/html:Join the Arlington Education Foundation for a community-wide get out and get moving 5K/1M Run/Walk event for a good cause! Participate from anywhere between the dates of May 1st and May 16th. All participants will receive an event t-shirt and goodie bag along with access to the RaceJoy app to communicate with other participants while tracking your course and results. The Arlington Education Foundation is a non-profit 501(c)(3) investing in educational excellence.
LOCATION:Anywhere
UID:e.2770.10484947
SEQUENCE:3
DTSTAMP:20260421T101254Z
URL:http://dutchesscountyregional.smartcms.site/events/details/virtual-2021-arlington-education-foundation-5k-1m-run-walk-10484947
END:VEVENT

END:VCALENDAR
