BEGIN:VCALENDAR
VERSION:2.0
PRODID:-//ChamberMaster//Event Calendar 2.0//EN
METHOD:PUBLISH
X-PUBLISHED-TTL:P3D
REFRESH-INTERVAL:P3D
CALSCALE:GREGORIAN
BEGIN:VEVENT
DTSTART:20210507T143000Z
DTEND:20210507T153000Z
X-MICROSOFT-CDO-ALLDAYEVENT:FALSE
SUMMARY:Virtual AlzWell Social Club
DESCRIPTION:Join us for a free virtual social program by the Alzheimer's Association for people with dementia and their family caregivers. Features movement to music\, a support group with art therapists\, dance and other activities. To register\, call the Alzheimer's Association at 800.272.3900. Registrants will be provided information on how to participate.
X-ALT-DESC;FMTTYPE=text/html:<p><span style="color:rgb(34\, 34\, 34)\; font-family:times new roman\; font-size:13pt">Join us for a&nbsp\;</span><span style="color:rgb(34\, 34\, 34)\; font-family:times new roman\; font-size:12pt">free virtual social program by the Alzheimer&rsquo\;s Association for people with dementia and their family caregivers. Features movement to music\, a support group with art therapists\, dance and other activities. To register\, call the Alzheimer&#39\;s Association at 800.272.3900. Registrants will be provided information on how to participate.</span></p>\n\n<p><span style="color:rgb(34\, 34\, 34)\; font-family:times new roman\; font-size:13pt">&nbsp\;</span></p>\n
LOCATION:online
UID:e.2770.10485119
SEQUENCE:3
DTSTAMP:20260421T100159Z
URL:http://dutchesscountyregional.smartcms.site/events/details/virtual-alzwell-social-club-05-07-2021-10485119
END:VEVENT

END:VCALENDAR
