BEGIN:VCALENDAR
VERSION:2.0
PRODID:-//ChamberMaster//Event Calendar 2.0//EN
METHOD:PUBLISH
X-PUBLISHED-TTL:P3D
REFRESH-INTERVAL:P3D
CALSCALE:GREGORIAN
BEGIN:VEVENT
DTSTART:20201015T220000Z
DTEND:20201016T020000Z
X-MICROSOFT-CDO-ALLDAYEVENT:FALSE
SUMMARY:VIRTUAL Best of Hudson Valley Party **(No one under 21 admitted) **
DESCRIPTION:Date: Thursday October 15\, 2020 Time: 6PM Location: Hudson Valley Magazine Description: This annual extravaganza celebrates the Best of Hudson Valley winners\, including the top-rated restaurants\, shops\, services\, and professionals   showcased in the October issue of Hudson Valley Magazine. The fun-filled evening features food and drink samples\, photo opportunities\, live music and more!
X-ALT-DESC;FMTTYPE=text/html:Date: Thursday October 15\, 2020 Time: 6PM Location: Hudson Valley Magazine Description: This annual extravaganza celebrates the Best of Hudson Valley winners\, including the top-rated restaurants\, shops\, services\, and professionals &ndash\; showcased in the October issue of Hudson Valley Magazine. The fun-filled evening features food and drink samples\, photo opportunities\, live music and more!
LOCATION:REMOTE
UID:e.2770.10484428
SEQUENCE:3
DTSTAMP:20260421T211735Z
URL:http://dutchesscountyregional.smartcms.site/events/details/virtual-best-of-hudson-valley-party-no-one-under-21-admitted-10484428
END:VEVENT

END:VCALENDAR
