BEGIN:VCALENDAR
VERSION:2.0
PRODID:-//ChamberMaster//Event Calendar 2.0//EN
METHOD:PUBLISH
X-PUBLISHED-TTL:P3D
REFRESH-INTERVAL:P3D
CALSCALE:GREGORIAN
BEGIN:VEVENT
DTSTART:20210210T140000Z
DTEND:20210210T153000Z
X-MICROSOFT-CDO-ALLDAYEVENT:FALSE
SUMMARY:(Virtual) Business Education Webinar: Shuttered Venue Operator Grants
DESCRIPTION:Join us to learn about eligibility\, definition\, application\, use of funds\, business size/employees\, revenue\, how to get a DUNS number and register at SAM.gov to get ready for when the application opens. Qualified applicants have to register at SAM.gov to accept the grants\, and have to choose between SVO Grants and the Second Draw PPP Loan.\n\n\n\nPresented by: Man-Li Lin\, Economic Development Specialist - U.S. Small Business Administration (New York District Office)\n\n\n\nSponsored by: KeyBank and Stenger\, Diamond & Glass\, LLP - SDG Law \n\n\n\nSupported by: Small Business Administration and Small Business Development Center\n\n\n\nRegistration in advance is required as space is limited.\n\n\n\nTo Register\, Click Here
X-ALT-DESC;FMTTYPE=text/html:<br />\n<span style="font-size:16px\;"><span style="font-family:times new roman\;"><span style="color:#000000\;">Join us to learn about eligibility\, definition\, application\, use of funds\, business size/employees\, revenue\, how to get a DUNS number and register at</span><span style="color:black\;"> </span><u><strong><a href="https://www.sam.gov/SAM/" target="_blank"><span style="color:#0000FF\;">SAM.gov</span></a></strong></u><span style="color:black\;"> </span><span style="color:#000000\;">to get ready for when the application opens. Qualified applicants have to register at </span><strong><a href="https://www.sam.gov/SAM/" target="_blank"><span style="color:#0000FF\;"><u>SAM.gov</u></span></a></strong><span style="color:#000000\;"> to accept the grants\, and have to choose between SVO Grants and the Second Draw PPP Loan.<br />\n<br />\n<strong>Presented by: </strong>Man-Li Lin\, Economic Development Specialist - U.S. Small Business Administration (New York District Office)</span></span></span><br />\n<br />\n<span style="color:#000000\;"><span style="font-family: &quot\;times new roman&quot\;\; font-size: 16px\;"><strong>Sponsored by:</strong>&nbsp\;</span></span><span style="font-size:16px\;"><span style="font-family:times new roman\;"><strong><a href="https://www.key.com/personal/index.jsp" target="_blank"><span style="color:#0000FF\;">KeyBank</span></a></strong></span></span><span style="color:#000000\;"><span style="font-size:16px\;"><span style="font-family:times new roman\;"> and </span></span></span><span style="font-size:16px\;"><span style="font-family:times new roman\;"><strong><a href="https://sdglaw.com/" target="_blank"><span style="color:#0000FF\;">Stenger\, Diamond &amp\; Glass\, LLP - SDG Law</span></a></strong></span></span><span style="color:#000000\;"><span style="font-size:16px\;"><span style="font-family:times new roman\;">&nbsp\;<br />\n<br />\n<strong>Supported by:</strong> </span></span></span><span style="font-size:16px\;"><span style="font-family:times new roman\;"><strong><a href="https://www.sba.gov/" target="_blank"><span style="color:#0000FF\;">Small Business Administration</span></a><span style="color:#0000FF\;">&nbsp\;</span></strong><span style="color:#000000\;">and </span><a href="https://www.nysbdc.org/centers/centers.aspx?centid=94" target="_blank"><span style="color:#0000FF\;"><strong>Small Business Development Center</strong></span></a></span></span><br />\n<br />\n<span style="color:#000000\;"><span style="font-size:16px\;"><span style="font-family:times new roman\;">Registration in advance is required as space is limited.</span></span></span><br />\n<br />\n<span style="font-size:16px\;"><span style="font-family:times new roman\;"><span style="color:#000000\;">To Register\, Click</span><span style="color:#000000\;"><span style="font-size:16px\;"><span style="font-family:times new roman\;"> </span></span></span><strong><a href="https://dcrcoc-org.zoom.us/webinar/register/WN_BTBcYXWERs6kBJDuda6VGg" target="_blank"><span style="color:#0000FF\;">Here</span></a></strong></span></span><br />\n&nbsp\;
LOCATION:Zoom
UID:e.2770.10484946
SEQUENCE:3
DTSTAMP:20260421T145239Z
URL:http://dutchesscountyregional.smartcms.site/events/details/virtual-business-education-webinar-shuttered-venue-operator-grants-10484946
END:VEVENT

END:VCALENDAR
