BEGIN:VCALENDAR
VERSION:2.0
PRODID:-//ChamberMaster//Event Calendar 2.0//EN
METHOD:PUBLISH
X-PUBLISHED-TTL:P3D
REFRESH-INTERVAL:P3D
CALSCALE:GREGORIAN
BEGIN:VEVENT
DTSTART;VALUE=DATE:20200418
DTEND;VALUE=DATE:20200419
TRANSP:TRANSPARENT
X-MICROSOFT-CDO-ALLDAYEVENT:TRUE
SUMMARY:VIRTUAL Heart Walk
DESCRIPTION:Join the 2020 Dutchess Ulster Heart Walk wherever you are on SATURDAY\, April 18th. Instead of convening at Dutchess Community College\, we will see you all on social media. Be sure to mark yourself as GOING on the Facebook 2020 Virtual Dutchess Ulster Heart Walk page to join this new virtual experience! Here's the challenge\, if you choose to accept it! 1. Commit to getting your 5K walk or run in on April 18! It can be anywhere! On a treadmill in your house\, at a local park\, getting your family together around your neighborhood as you walk your dog etc. It doesn't matter HOW you move\, just that you ARE moving! 2. Register at DutchessUlsterHeartWalk.org to get important updates! 3.Capture the unique ways you are incorporating movement and post it on social media using the hashtag #HVHeartWalk! 4. Let's put your steps to work and continue to fundraise for research\, education and transformational advocacy in our community by registering\, donating and fundraising at www.dutchessulsterheartwalk.org. Local sponsors for the 2020 Virtual Dutchess Ulster Heart Walk include Nuvance Health\, Laerdal Medical USA\, M&T Bank\, North American Partners in Anesthesia\, Flory's\, UnitedHealth Group\, David Ping Group\, Crunch Fitness\, Ellenville Regional Hospital\, Feldman Physical Therapy and Performance\, Kingston Nissan\, Mackey Butts & Wise LLP\, Marshall & Sterling Insurance\, Rutberg Breslow Personal Injury Law\, Tompkins Mahopac Bank\, Viking Industries\, Williams Lumber & Home Centers\, Red Line Diner\, Daily Planet Diner\, Hudson Valley Magazine\, Southern/Northern Dutchess News Group\, 97.7/97.3 The Wolf.
X-ALT-DESC;FMTTYPE=text/html:Join the 2020 Dutchess Ulster Heart Walk wherever you are on SATURDAY\, April 18th. Instead of convening at Dutchess Community College\, we will see you all on social media. Be sure to mark yourself as GOING on the Facebook 2020 Virtual Dutchess Ulster Heart Walk page to join this new virtual experience! Here&rsquo\;s the challenge\, if you choose to accept it! 1. Commit to getting your 5K walk or run in on April 18! It can be anywhere! On a treadmill in your house\, at a local park\, getting your family together around your neighborhood as you walk your dog etc. It doesn&rsquo\;t matter HOW you move\, just that you ARE moving! 2. Register at DutchessUlsterHeartWalk.org to get important updates! 3.Capture the unique ways you are incorporating movement and post it on social media using the hashtag #HVHeartWalk! 4. Let&rsquo\;s put your steps to work and continue to fundraise for research\, education and transformational advocacy in our community by registering\, donating and fundraising at www.dutchessulsterheartwalk.org. Local sponsors for the 2020 Virtual Dutchess Ulster Heart Walk include Nuvance Health\, Laerdal Medical USA\, M&amp\;T Bank\, North American Partners in Anesthesia\, Flory&#39\;s\, UnitedHealth Group\, David Ping Group\, Crunch Fitness\, Ellenville Regional Hospital\, Feldman Physical Therapy and Performance\, Kingston Nissan\, Mackey Butts &amp\; Wise LLP\, Marshall &amp\; Sterling Insurance\, Rutberg Breslow Personal Injury Law\, Tompkins Mahopac Bank\, Viking Industries\, Williams Lumber &amp\; Home Centers\, Red Line Diner\, Daily Planet Diner\, Hudson Valley Magazine\, Southern/Northern Dutchess News Group\, 97.7/97.3 The Wolf.
LOCATION:Walk\, Run\, Step where ever you are!
UID:e.2770.10483247
SEQUENCE:3
DTSTAMP:20260422T072113Z
URL:http://dutchesscountyregional.smartcms.site/events/details/virtual-heart-walk-10483247
END:VEVENT

END:VCALENDAR
