BEGIN:VCALENDAR
VERSION:2.0
PRODID:-//ChamberMaster//Event Calendar 2.0//EN
METHOD:PUBLISH
X-PUBLISHED-TTL:P3D
REFRESH-INTERVAL:P3D
CALSCALE:GREGORIAN
BEGIN:VEVENT
DTSTART:20210316T220000Z
DTEND:20210316T223000Z
X-MICROSOFT-CDO-ALLDAYEVENT:FALSE
SUMMARY:Virtual Make a Difference Night
DESCRIPTION:A free virtual event to learn about volunteer opportunities with the Alzheimer's Association Hudson Valley Chapter that you can do from home. To register\, call 800.272.3900.
X-ALT-DESC;FMTTYPE=text/html:<p><span style="color:rgb(34\, 34\, 34)\; font-family:times new roman\; font-size:12pt">A free virtual event to learn about volunteer opportunities with the Alzheimer&#39\;s Association Hudson Valley Chapter that you can do from home. To register\, call 800.272.3900.</span></p>\n\n<div>&nbsp\;</div>\n
LOCATION:
UID:e.2770.10484988
SEQUENCE:3
DTSTAMP:20260421T131948Z
URL:http://dutchesscountyregional.smartcms.site/events/details/virtual-make-a-difference-night-03-16-2021-10484988
END:VEVENT

END:VCALENDAR
