BEGIN:VCALENDAR
VERSION:2.0
PRODID:-//ChamberMaster//Event Calendar 2.0//EN
METHOD:PUBLISH
X-PUBLISHED-TTL:P3D
REFRESH-INTERVAL:P3D
CALSCALE:GREGORIAN
BEGIN:VEVENT
DTSTART:20201209T140000Z
DTEND:20201209T153000Z
X-MICROSOFT-CDO-ALLDAYEVENT:FALSE
SUMMARY:Virtual Nonprofit Seminar
DESCRIPTION:Finance for Nonprofits\, presented by Cindy M. Smith\, CPA\n\n\n\nHow to leverage the 990 as a marketing and communications tool to inform key constituents about your organization.\n\n\n\nThis virtual event is open to the public and will be available to watch on Zoom.\n\nPre-registration is required\, as space is limited. \n\n\n\nTo Register\, Click Here\n\n\n\nSponsored By: Tompkins Mahopac Bank
X-ALT-DESC;FMTTYPE=text/html:<span style="font-size:16px\;"><span style="font-family:times new roman\;"><span style="color:#000000\;">Finance for Nonprofits\, presented by Cindy M. Smith\, CPA<br />\n<br />\nHow to leverage the 990 as a marketing and communications tool to inform key constituents about your organization.</span></span><br />\n<br />\n<span style="background-image: initial\; background-position: initial\; background-size: initial\; background-repeat: initial\; background-attachment: initial\; background-origin: initial\; background-clip: initial\; color: rgb(0\, 0\, 0)\; font-family: &quot\;times new roman&quot\;\;">This virtual event is open to the public and will be available to watch on Zoom.</span><br style="color: rgb(0\, 0\, 0)\; font-family: &quot\;times new roman&quot\;\;" />\n<span style="color: rgb(0\, 0\, 0)\; font-family: &quot\;times new roman&quot\;\;"><span style="background-image: initial\; background-position: initial\; background-size: initial\; background-repeat: initial\; background-attachment: initial\; background-origin: initial\; background-clip: initial\;">Pre-registration is required\, as space is limited.&nbsp\;</span></span></span><br />\n<br />\n<span style="font-size:16px\;"><span style="font-family:times new roman\;"><span style="color:#000000\;">To Register\, Click </span><strong><a href="https://dcrcoc-org.zoom.us/meeting/register/tZ0pdOGgpzIrHt2pBLzMxXrLr8XmDzKO9jX-" target="_blank"><span style="color:#0000FF\;">Here</span></a></strong><br />\n<br />\n<strong><span style="color:#000000\;">Sponsored By: </span><a href="https://www.mahopacbank.com/" target="_blank"><span style="color:#0000FF\;">Tompkins Mahopac Bank</span></a></strong></span></span>
LOCATION:
UID:e.2770.10484476
SEQUENCE:3
DTSTAMP:20260421T180046Z
URL:http://dutchesscountyregional.smartcms.site/events/details/virtual-nonprofit-seminar-10484476
END:VEVENT

END:VCALENDAR
