BEGIN:VCALENDAR
VERSION:2.0
PRODID:-//ChamberMaster//Event Calendar 2.0//EN
METHOD:PUBLISH
X-PUBLISHED-TTL:P3D
REFRESH-INTERVAL:P3D
CALSCALE:GREGORIAN
BEGIN:VEVENT
DTSTART:20200424T170000Z
DTEND:20200424T183000Z
X-MICROSOFT-CDO-ALLDAYEVENT:FALSE
SUMMARY:Virtual Town Hall with State Representatives
DESCRIPTION:The Dutchess Business Notification Network and the Dutchess County Regional Chamber of Commerce invite you to participate in a virtual business town hall conversation with State Senator Harckham\, State Senator Sue Serino\, State Assemblyman Lalor\, State Assemblyman Jacobson. The format will open with remarks and end with a Q&A session.\n\n\n\nThank you JGS CPAs\, N&S Supply\, and Rose and Kiernan Insurance for sponsoring.\n\n\n\nRegistration is required in advance for this webinar\, as space is limited. \n\nYou can register for the event HERE.\n\n\n\nA replay of this virtual town hall will be made available after the webinar on www.DutchessBNN.com.
X-ALT-DESC;FMTTYPE=text/html:<br />\n<span style="font-size:18px\;"><span style="font-family:times new roman\;"><span style="color:black\;">The Dutchess Business Notification Network and the Dutchess County Regional Chamber of Commerce invite you to participate in a virtual business town hall conversation with State Senator Harckham\, State Senator Sue Serino\, State Assemblyman Lalor\, State Assemblyman Jacobson. The format will open with remarks and end with a Q&amp\;A session.<br />\n<br />\nThank you </span><strong><a href="https://jgspc.com/" target="_blank"><span style="color:#0000FF\;">JGS CPAs</span></a></strong><span style="color:#000000\;">\,</span><span style="color:black\;"> </span><strong><a href="https://www.nssupply.com/" target="_blank"><span style="color:#0000FF\;">N&amp\;S Supply</span></a></strong><span style="color:#000000\;">\, </span><span style="color:black\;">and </span><strong><a href="https://www.rkinsurance.com/" target="_blank"><span style="color:#0000FF\;">Rose and Kiernan Insurance</span></a></strong><span style="color:black\;"> for sponsoring.</span><br />\n<br />\n<span style="background:white\;"><span style="color:#232333\;">Registration is required in advance for this webinar\, as space is limited.&nbsp\;</span></span></span></span><br />\n<span style="font-family: &quot\;times new roman&quot\;\; font-size: 18px\; color: black\;">You can register for the event&nbsp\;</span><strong style="font-family: &quot\;times new roman&quot\;\; font-size: 18px\;"><a href="http://r20.rs6.net/tn.jsp?f=001t16LEMeKu3e3HlZM4SNwevUTvFZ4M7NdBj8mj7jMHEaJ2CzFk9kWrLTnX_cALYzoTB5365m__DajWfBRmqfJKK3M31sXgL88mm8_68sPWaS3r4VW8_WL-9CeNk1MdLmD7HUoqqrhYQkxgKSHtBFMT1Edw1xKECBSd5RIjvmavSaA26iUt9WI6BIQvkkIdczD&amp\;c=OGIzBlXOZcBwmofEroxdMF6Snnn1WLZ8oleR7mJruitjstktTZJmFA==&amp\;ch=c_TQInfLf4vHXibitF6FRqka2G35hmJxCbYYFOTCVhP85jNSBnyigQ==" target="_blank"><span style="color:#0000FF\;">HERE</span></a></strong><span style="font-family: &quot\;times new roman&quot\;\; font-size: 18px\; color: black\;">.</span><br />\n<br />\n<span style="font-size:18px\;"><span style="font-family:times new roman\;">A replay of this virtual town hall will be made available after the webinar on <strong><a href="http://www.DutchessBNN.com" target="_blank"><span style="color:#0000FF\;">www.DutchessBNN.com</span></a></strong>.</span></span><br />\n&nbsp\;
LOCATION:
UID:e.2770.10483263
SEQUENCE:3
DTSTAMP:20260422T090455Z
URL:http://dutchesscountyregional.smartcms.site/events/details/virtual-town-hall-with-state-representatives-10483263
END:VEVENT

END:VCALENDAR
