BEGIN:VCALENDAR
VERSION:2.0
PRODID:-//ChamberMaster//Event Calendar 2.0//EN
METHOD:PUBLISH
X-PUBLISHED-TTL:P3D
REFRESH-INTERVAL:P3D
CALSCALE:GREGORIAN
BEGIN:VEVENT
DTSTART:20200603T213000Z
DTEND:20200603T233000Z
X-MICROSOFT-CDO-ALLDAYEVENT:FALSE
SUMMARY:VIRTUAL Youth Leadership Recognition
DESCRIPTION:The Chamber Foundation\, Inc. invites you to The Youth Leadership Program's Virtual Recognition Ceremony Class of 2020!\n\n \n\nJoin us as we celebrate those students who have completed both tracks of Youth Leadership at a special recognition honoring their hard work and dedication to developing themselves as future leaders.\n\n \n\nEvent is complimentary and your support would be greatly appreciated as we give the students the recognition they deserve. \n\n\n\nClick Here to Access Recognition Ceremony\n\n\n\nSponsored By: DCH Wappingers Falls Toyota
X-ALT-DESC;FMTTYPE=text/html:<p><br />\n<span style="font-size:16px\;"><span style="font-family:tahoma\;">T<span style="font-size:18px\;">he Chamber Foundation\, Inc. invites you to The Youth Leadership Program&#39\;s Virtual Recognition Ceremony Class of 2020!<br />\n&nbsp\;<br />\nJoin us as we celebrate those students who have completed both tracks of Youth Leadership&nbsp\;</span></span></span><span style="font-size:18px\;"><span style="font-family: tahoma\;">at a special recognition&nbsp\;honoring their hard work and dedication to developing themselves as future leaders.</span><br />\n<span style="font-family:tahoma\;">&nbsp\;<br />\nEvent is complimentary and your support would be greatly appreciated as we give the students the recognition they deserve.&nbsp\;<br />\n<br />\n<strong><a href="https://us02web.zoom.us/j/82944328555" target="_blank"><span style="color:#FF0000\;">Click Here to Access Recognition Ceremony</span></a></strong><br />\n<br />\nSponsored By:&nbsp\;<a href="https://www.dchwappingerstoyota.com/" target="_blank"><span style="color:#0000FF\;"><strong><span style="white-space: nowrap\;">DCH Wappingers Falls Toyota</span></strong></span></a></span></span></p>\n
LOCATION:
UID:e.2770.10483283
SEQUENCE:3
DTSTAMP:20260422T034833Z
URL:http://dutchesscountyregional.smartcms.site/events/details/virtual-youth-leadership-recognition-10483283
END:VEVENT

END:VCALENDAR
