BEGIN:VCALENDAR
VERSION:2.0
PRODID:-//ChamberMaster//Event Calendar 2.0//EN
METHOD:PUBLISH
X-PUBLISHED-TTL:P3D
REFRESH-INTERVAL:P3D
CALSCALE:GREGORIAN
BEGIN:VEVENT
DTSTART:20190830T160000Z
DTEND:20190830T160000Z
X-MICROSOFT-CDO-ALLDAYEVENT:FALSE
SUMMARY:Walkway at Night
DESCRIPTION:The Walkway stays open after closing for Walkway at Night events. Programs are offered such as such as telescope viewing provided by the Mid-Hudson Astronomical Association (weather permitting) and storytelling. Rain dates are scheduled and will only be released as needed. Special programming for the 50TH anniversary of Apollo 11.
X-ALT-DESC;FMTTYPE=text/html:The Walkway stays open after closing for Walkway at Night events. Programs are offered such as such as telescope viewing provided by the Mid-Hudson Astronomical Association (weather permitting) and storytelling. Rain dates are scheduled and will only be released as needed. Special programming for the 50TH anniversary of Apollo 11.
LOCATION:Entire Walkway
UID:e.2770.10480609
SEQUENCE:3
DTSTAMP:20260422T223424Z
URL:http://dutchesscountyregional.smartcms.site/events/details/walkway-at-night-08-30-2019-10480609
END:VEVENT

END:VCALENDAR
