BEGIN:VCALENDAR
VERSION:2.0
PRODID:-//ChamberMaster//Event Calendar 2.0//EN
METHOD:PUBLISH
X-PUBLISHED-TTL:P3D
REFRESH-INTERVAL:P3D
CALSCALE:GREGORIAN
BEGIN:VEVENT
DTSTART:20190818T160000Z
DTEND:20190818T160000Z
X-MICROSOFT-CDO-ALLDAYEVENT:FALSE
SUMMARY:Walkway Lecture Series
DESCRIPTION:Learn about the rich history of the Poughkeepsie-Highland Railroad Bridge and the majestic Hudson Valley at the 2019 Walkway Lecture Series. Local historians\, civic leaders and other experts share stories and information about a wide range of fascinating topics celebrating our region's past\, present and future.
X-ALT-DESC;FMTTYPE=text/html:Learn about the rich history of the Poughkeepsie-Highland Railroad Bridge and the majestic Hudson Valley at the 2019 Walkway Lecture Series. Local historians\, civic leaders and other experts share stories and information about a wide range of fascinating topics celebrating our region&rsquo\;s past\, present and future.
LOCATION:Ulster Welcome Center
UID:e.2770.10480622
SEQUENCE:3
DTSTAMP:20260423T001800Z
URL:http://dutchesscountyregional.smartcms.site/events/details/walkway-lecture-series-08-18-2019-10480622
END:VEVENT

END:VCALENDAR
