BEGIN:VCALENDAR
VERSION:2.0
PRODID:-//ChamberMaster//Event Calendar 2.0//EN
METHOD:PUBLISH
X-PUBLISHED-TTL:P3D
REFRESH-INTERVAL:P3D
CALSCALE:GREGORIAN
BEGIN:VEVENT
DTSTART:20180513T000000Z
DTEND:20180513T030000Z
X-MICROSOFT-CDO-ALLDAYEVENT:FALSE
SUMMARY:WALKWAY - Starwalk: A Universe of Fun
DESCRIPTION:If you enjoy our MOONWALK series\, you'll LOVE our new STARWALK series! View the wonders of the night sky from the Walkway\, 212 feet above the Hudson River. With each STARWALK scheduled around unique occurrences in the celestial calendar\, astronomy enthusiasts and novices alike can view and learn about a range of astronomical topics. Volunteers from local astronomical organizations and schools will be on hand to share their knowledge and expertise.
X-ALT-DESC;FMTTYPE=text/html:If you enjoy our MOONWALK series\, you&rsquo\;ll LOVE our new STARWALK series! View the wonders of the night sky from the Walkway\, 212 feet above the Hudson River. With each STARWALK scheduled around unique occurrences in the celestial calendar\, astronomy enthusiasts and novices alike can view and learn about a range of astronomical topics. Volunteers from local astronomical organizations and schools will be on hand to share their knowledge and expertise.
LOCATION:Walkway East (Poughkeepsie) and West (Highland) Entrances
UID:e.2770.10477766
SEQUENCE:3
DTSTAMP:20260426T034342Z
URL:http://dutchesscountyregional.smartcms.site/events/details/walkway-starwalk-a-universe-of-fun-10477766
END:VEVENT

END:VCALENDAR
