BEGIN:VCALENDAR
VERSION:2.0
PRODID:-//ChamberMaster//Event Calendar 2.0//EN
METHOD:PUBLISH
X-PUBLISHED-TTL:P3D
REFRESH-INTERVAL:P3D
CALSCALE:GREGORIAN
BEGIN:VEVENT
DTSTART:20180626T223000Z
DTEND:20180627T020000Z
X-MICROSOFT-CDO-ALLDAYEVENT:FALSE
SUMMARY:Waltzing Under The Stars With The Bernstein-Bard Trio!
DESCRIPTION:Join us on the Rooftop of the Inn And Spa At Beacon for Waltzing Under the Stars. $20 (includes free dance lesson)\n\n6:00 PM - 7:00 PM intermediate Waltz Clinic with Joe Donato: $15\n\n7:00 PM - 7:25 PM Free beginner's waltz lesson\n\n7:30 PM - 10:00 PM Waltzing Under The Stars with Bernstein-Bard: $20\n\nFree beginner Waltz Lesson at 6:30\n\nWaltzing from 7:00 P.M.-10:00 P.M.\n\nLIVE MUSIC by the Bernstein-Bard Trio\n\nEnjoy 1/2 Priced Chilled Prosecco!\n\nNo experience necessary\, no partner needed.\n\nTickets available at the door.\n\n"If you can count to three...we can teach you to waltz!"
X-ALT-DESC;FMTTYPE=text/html:Join us on the Rooftop of the Inn And Spa At Beacon for Waltzing Under the Stars. $20 (includes free dance lesson)<br />\n<span style="font-family: &quot\;Arial&quot\;\,sans-serif\; font-size: 10pt\; mso-fareast-font-family: &quot\;Times New Roman&quot\;\; mso-ansi-language: EN-US\; mso-fareast-language: EN-US\; mso-bidi-language: AR-SA\;"><font color="#000000">6:00 PM - 7:00 PM intermediate Waltz Clinic with Joe Donato: $15<br />\n7:00 PM - 7:25 PM Free beginner&rsquo\;s waltz lesson<br />\n7:30 PM - 10:00 PM Waltzing Under The Stars with Bernstein-Bard: $</font></span><span style="font-family: &quot\;Arial&quot\;\,sans-serif\; font-size: 10pt\; mso-fareast-font-family: &quot\;Times New Roman&quot\;\; mso-ansi-language: EN-US\; mso-fareast-language: EN-US\; mso-bidi-language: AR-SA\;"><font color="#000000">20</font></span><br />\nFree beginner&nbsp\;Waltz Lesson at 6:30<br />\nWaltzing from 7:00 P.M.-10:00 P.M.<br />\nLIVE MUSIC by the Bernstein-Bard Trio<br />\nEnjoy 1/2 Priced Chilled Prosecco!<br />\nNo experience necessary\, no partner needed.<br />\nTickets available at the door.<br />\n&quot\;If you can count to three...we can teach you to waltz!&quot\;
LOCATION:Rooftop Garden of The Inn And Spa At Beacon (151 Main Street) Beacon\, NY
UID:e.2770.10479263
SEQUENCE:3
DTSTAMP:20260426T022706Z
URL:http://dutchesscountyregional.smartcms.site/events/details/waltzing-under-the-stars-with-the-bernstein-bard-trio-10479263
END:VEVENT

END:VCALENDAR
