BEGIN:VCALENDAR
VERSION:2.0
PRODID:-//ChamberMaster//Event Calendar 2.0//EN
METHOD:PUBLISH
X-PUBLISHED-TTL:P3D
REFRESH-INTERVAL:P3D
CALSCALE:GREGORIAN
BEGIN:VEVENT
DTSTART:20200723T140000Z
DTEND:20200723T150000Z
X-MICROSOFT-CDO-ALLDAYEVENT:FALSE
SUMMARY:WEBINAR: Back to School Solutions: K-12 Custodial Services
DESCRIPTION:Webinar focused on the safe reopening of k-12 Schools and Custodial products and procedures. Presenters: Joe Waite VP of Sales\, Hill & Markes Alan Neufeld JanSan Consultant\, Hill & Markes JP Plamondon Sales Manager\, Rubbermaid Commercial Products Luke Van Epps Sales Executive\, Diversey
X-ALT-DESC;FMTTYPE=text/html:Webinar focused on the safe reopening of k-12 Schools and Custodial products and procedures. Presenters: Joe Waite VP of Sales\, Hill &amp\; Markes Alan Neufeld JanSan Consultant\, Hill &amp\; Markes JP Plamondon Sales Manager\, Rubbermaid Commercial Products Luke Van Epps Sales Executive\, Diversey
LOCATION:Online @ hillnmarkes.com/backtobusiness
UID:e.2770.10484418
SEQUENCE:3
DTSTAMP:20260422T015917Z
URL:http://dutchesscountyregional.smartcms.site/events/details/webinar-back-to-school-solutions-k-12-custodial-services-10484418
END:VEVENT

END:VCALENDAR
