BEGIN:VCALENDAR
VERSION:2.0
PRODID:-//ChamberMaster//Event Calendar 2.0//EN
METHOD:PUBLISH
X-PUBLISHED-TTL:P3D
REFRESH-INTERVAL:P3D
CALSCALE:GREGORIAN
BEGIN:VEVENT
DTSTART:20210304T170000Z
DTEND:20210304T180000Z
X-MICROSOFT-CDO-ALLDAYEVENT:FALSE
SUMMARY:Webinar: Guidance for Catering Venues\, Food Service Providers\, and Event Planners
DESCRIPTION:This webinar\, presented to the business community by the Dutchess County Regional Chamber of Commerce\, will provide guidance for catering venues\, food service providers\, and event planners on regulation taking effect March 15.\n\n \n\nInformation will be presented by Assistant Dutchess County Executive Ron Hicks\, with additional legal contract and State Liquor Authority guidance presented by Jessica Glass\, Partner at Stenger\, Diamond & Glass/SDG Law. There will be an opportunity for attendees to ask questions.\n\n \n\nAdvance registration is required for the Zoom presentation.\n\n\n\nTo Register: Please Click Here\n\n\n\nThe webinar will also be streamed live on Facebook and recorded for on-demand viewing at DutchessBNN.com.\n\n \n\nThank you to sponsors: KeyBank and Stenger\, Diamond & Glass/SDG Law
X-ALT-DESC;FMTTYPE=text/html:<br />\n<span style="color:#000000\;"><span style="font-size:16px\;"><span style="font-family:times new roman\;">This webinar\, presented to the business community by the Dutchess County Regional Chamber of Commerce\, will provide guidance for catering venues\, food service providers\, and event planners on regulation taking effect March 15.<br />\n&nbsp\;<br />\nInformation will be presented by Assistant Dutchess County Executive Ron Hicks\, with additional legal contract and State Liquor Authority guidance presented by Jessica Glass\, Partner at Stenger\, Diamond &amp\; Glass/SDG Law. There will be an opportunity for attendees to ask questions.<br />\n&nbsp\;<br />\nAdvance registration is required for the Zoom presentation.<br />\n<br />\nTo Register: Please Click </span></span></span><span style="font-size:16px\;"><span style="font-family:times new roman\;"><strong><a href="https://dcrcoc-org.zoom.us/webinar/register/WN_hS6dkap5ROu1lClN7d9btg" target="_blank"><span style="color:#0000FF\;">Here</span></a></strong></span></span><br />\n<br />\n<span style="color:#000000\;"><span style="font-size:16px\;"><span style="font-family:times new roman\;">The webinar will also be streamed live on Facebook and recorded for on-demand viewing at </span></span></span><span style="font-size:16px\;"><span style="font-family:times new roman\;"><strong><a href="https://dutchessbnn.com/" target="_blank"><span style="color:#0000FF\;">DutchessBNN.com</span></a></strong></span></span><span style="color:#000000\;"><span style="font-size:16px\;"><span style="font-family:times new roman\;">.<br />\n&nbsp\;<br />\nThank you to sponsors: </span></span></span><span style="font-size:16px\;"><span style="font-family:times new roman\;"><strong><a href="https://www.key.com/personal/index.jsp" target="_blank"><span style="color:#0000FF\;">KeyBank</span></a></strong></span></span><span style="color:#000000\;"><span style="font-size:16px\;"><span style="font-family:times new roman\;"> and </span></span></span><span style="font-size:16px\;"><span style="font-family:times new roman\;"><strong><a href="https://sdglaw.com/" target="_blank"><span style="color:#0000FF\;">Stenger\, Diamond &amp\; Glass/SDG Law</span></a></strong></span></span>
LOCATION:
UID:e.2770.10485004
SEQUENCE:3
DTSTAMP:20260421T132209Z
URL:http://dutchesscountyregional.smartcms.site/events/details/webinar-guidance-for-catering-venues-food-service-providers-and-event-planners-10485004
END:VEVENT

END:VCALENDAR
