BEGIN:VCALENDAR
VERSION:2.0
PRODID:-//ChamberMaster//Event Calendar 2.0//EN
METHOD:PUBLISH
X-PUBLISHED-TTL:P3D
REFRESH-INTERVAL:P3D
CALSCALE:GREGORIAN
BEGIN:VEVENT
DTSTART:20200716T140000Z
DTEND:20200716T150000Z
X-MICROSOFT-CDO-ALLDAYEVENT:FALSE
SUMMARY:WEBINAR: What you need to know when reopening K-12 Food Service!
DESCRIPTION:While there is still many unknowns regarding reopening schools\, Hill & Markes is here to help!\n\n\n\nJoin our webinar featuring a panel of experts from Pactiv LLC\, OMNIA Partners\, and Cambro Manufacturing to discuss back to school solutions for K-12 food service. Register today to learn about our suggestions moving forward.\n\n\n\nTo register\, visit hillnmarkes.com/backtobusiness today or go to https://forms.gle/9UjUBmvqHzzNQGQRA\n\n\n\nThursday\, July 16th 10:00 am EST
X-ALT-DESC;FMTTYPE=text/html:While there is still many unknowns regarding reopening schools\, Hill &amp\; Markes is here to help!<br />\n<br />\nJoin our webinar featuring a panel of experts from Pactiv LLC\, OMNIA Partners\, and Cambro Manufacturing to discuss back to school solutions for K-12 food service. Register today to learn about our suggestions moving forward.<br />\n<br />\nTo register\, visit hillnmarkes.com/backtobusiness today or go to https://forms.gle/9UjUBmvqHzzNQGQRA<br />\n<br />\nThursday\, July 16th 10:00 am EST
LOCATION:Webinar
UID:e.2770.10484167
SEQUENCE:3
DTSTAMP:20260422T020103Z
URL:http://dutchesscountyregional.smartcms.site/events/details/webinar-what-you-need-to-know-when-reopening-k-12-food-service-10484167
END:VEVENT

END:VCALENDAR
