BEGIN:VCALENDAR
VERSION:2.0
PRODID:-//ChamberMaster//Event Calendar 2.0//EN
METHOD:PUBLISH
X-PUBLISHED-TTL:P3D
REFRESH-INTERVAL:P3D
CALSCALE:GREGORIAN
BEGIN:VEVENT
DTSTART:20180515T220000Z
DTEND:20180516T010000Z
X-MICROSOFT-CDO-ALLDAYEVENT:FALSE
SUMMARY:WEDC MHV - Get to Your First Million in Sales!
DESCRIPTION:This workshop will provide a strategy to guide your business toward a secure\, stable\, and profitable future focusing on the importance of operations and organization management in the success of your business. Learn what you have to do to create a stable and mature business and see how operations supports the other key disciplines of finance and marketing to help your business achieve its potential.\n\nOperational Structure & Growth Workshop Main Topics\n\n\n	What is Operational and how does fit in with my needs?\n	Mission Statement   what is it and do I need one?\n	Company (Corporate) Culture\n	Organizational Chart & organizational structure\n	Leadership Development\n	Strategy to drive business toward a profitable & secure future\n	\n		Create Strategic Plans\n		Create Action Plan to translate your idea into success\n		Competitive Advantage\n		Customer Needs\n		How to Road test your strategy\n	\n	\n	Identify basic business activities to make business planning easier\n	Process Improvement\n	Strategy for Turbulent Times\n	Succession Plan\n\n\nTake Away \n\nAttendees will have a game plan to develop and create organizational structure and operational plans to pave the way to long-term growth and stability.
X-ALT-DESC;FMTTYPE=text/html:<p>This workshop will provide a strategy to guide your business toward a secure\, stable\, and profitable future focusing on the importance of operations and organization management in the success of your business. Learn what you have to do to create a stable and mature business and see how operations supports the other key disciplines of finance and marketing to help your business achieve its potential.</p>\n\n<p>Operational Structure &amp\; Growth Workshop Main Topics</p>\n\n<ul>\n	<li>What is Operational and how does fit in with my needs?</li>\n	<li>Mission Statement &ndash\; what is it and do I need one?</li>\n	<li>Company (Corporate) Culture</li>\n	<li>Organizational Chart &amp\; organizational structure</li>\n	<li>Leadership Development</li>\n	<li>Strategy to drive business toward a profitable &amp\; secure future\n	<ul>\n		<li>Create Strategic Plans</li>\n		<li>Create Action Plan to translate your idea into success</li>\n		<li>Competitive Advantage</li>\n		<li>Customer Needs</li>\n		<li>How to Road test your strategy</li>\n	</ul>\n	</li>\n	<li>Identify basic business activities to make business planning easier</li>\n	<li>Process Improvement</li>\n	<li>Strategy for Turbulent Times</li>\n	<li>Succession Plan</li>\n</ul>\n\n<p>Take Away&mdash\;</p>\n\n<p>Attendees will have a game plan to develop and create organizational structure and operational plans to pave the way to long-term growth and stability.</p>\n
LOCATION:WEDC MHV / THINK Dutches 3 Neptune Road Suite A21 Poughkeepsie\, NY 12601
UID:e.2770.10476745
SEQUENCE:3
DTSTAMP:20260426T034404Z
URL:http://dutchesscountyregional.smartcms.site/events/details/wedc-mhv-get-to-your-first-million-in-sales-10476745
END:VEVENT

END:VCALENDAR
