BEGIN:VCALENDAR
VERSION:2.0
PRODID:-//ChamberMaster//Event Calendar 2.0//EN
METHOD:PUBLISH
X-PUBLISHED-TTL:P3D
REFRESH-INTERVAL:P3D
CALSCALE:GREGORIAN
BEGIN:VEVENT
DTSTART:20180607T220000Z
DTEND:20180608T020000Z
X-MICROSOFT-CDO-ALLDAYEVENT:FALSE
SUMMARY:Westchester Magazine's Wine & Food Festival: Burger and Beer Blast
DESCRIPTION:Burgers\, beer\, music\, wine\, spirits\, food trucks and the best grilling this side of the Hudson River all come together at Westchester's ultimate block party! Top local chefs present their unique take on the all-American burger as they compete for the Best Burger Award. No one under 21 will be admitted.
X-ALT-DESC;FMTTYPE=text/html:Burgers\, beer\, music\, wine\, spirits\, food trucks and the best grilling this side of the Hudson River all come together at Westchester&rsquo\;s ultimate block party! Top local chefs present their unique take on the all-American burger as they compete for the Best Burger Award. No one under 21 will be admitted.
LOCATION:Kensico Dam Plaza 1 Bronx River Parkway Road Valhalla\, NY 10595
UID:e.2770.10477772
SEQUENCE:3
DTSTAMP:20260426T022809Z
URL:http://dutchesscountyregional.smartcms.site/events/details/westchester-magazine-s-wine-food-festival-burger-and-beer-blast-10477772
END:VEVENT

END:VCALENDAR
