BEGIN:VCALENDAR
VERSION:2.0
PRODID:-//ChamberMaster//Event Calendar 2.0//EN
METHOD:PUBLISH
X-PUBLISHED-TTL:P3D
REFRESH-INTERVAL:P3D
CALSCALE:GREGORIAN
BEGIN:VEVENT
DTSTART:20180609T160000Z
DTEND:20180609T210000Z
X-MICROSOFT-CDO-ALLDAYEVENT:FALSE
SUMMARY:Westchester Magazine's Wine & Food Festival: Grand Tasting Village
DESCRIPTION:The signature event of the Wine & Food Festival\, the Grand Tasting Village features tastings from 50+ local restaurants and more than 200 wine & spirits. Chef demonstrations and a variety of food trucks create a gastronomic delight for food and wine lovers. No one under 21 will be admitted.
X-ALT-DESC;FMTTYPE=text/html:The signature event of the Wine &amp\; Food Festival\, the Grand Tasting Village features tastings from 50+ local restaurants and more than 200 wine &amp\; spirits. Chef demonstrations and a variety of food trucks create a gastronomic delight for food and wine lovers. No one under 21 will be admitted.
LOCATION:Kensico Dam Plaza 1 Bronx River Parkway Road Valhalla\, NY 10595
UID:e.2770.10477774
SEQUENCE:3
DTSTAMP:20260426T022434Z
URL:http://dutchesscountyregional.smartcms.site/events/details/westchester-magazine-s-wine-food-festival-grand-tasting-village-10477774
END:VEVENT

END:VCALENDAR
