BEGIN:VCALENDAR
VERSION:2.0
PRODID:-//ChamberMaster//Event Calendar 2.0//EN
METHOD:PUBLISH
X-PUBLISHED-TTL:P3D
REFRESH-INTERVAL:P3D
CALSCALE:GREGORIAN
BEGIN:VEVENT
DTSTART:20180608T220000Z
DTEND:20180609T020000Z
X-MICROSOFT-CDO-ALLDAYEVENT:FALSE
SUMMARY:Westchester Magazine's Wine & Food Festival: Salute! An Evening with Westchester's Tastemakers
DESCRIPTION:Experience Westchester cuisine like a celebrity at the most exclusive event of the Wine & Food Festival. With the area's top chefs and the world's top wines being served\, An Evening with Westchester's Tastemakers is an incomparable six-course feast like anything you've ever experienced. No one under 21 will be admitted.
X-ALT-DESC;FMTTYPE=text/html:Experience Westchester cuisine like a celebrity at the most exclusive event of the Wine &amp\; Food Festival. With the area&rsquo\;s top chefs and the world&rsquo\;s top wines being served\, An Evening with Westchester&rsquo\;s Tastemakers is an incomparable six-course feast like anything you&rsquo\;ve ever experienced. No one under 21 will be admitted.
LOCATION:The Ritz-Carlton\, Westchester 3 Renaissance Square White Plains\, NY 10601
UID:e.2770.10477773
SEQUENCE:3
DTSTAMP:20260426T022434Z
URL:http://dutchesscountyregional.smartcms.site/events/details/westchester-magazine-s-wine-food-festival-salute-an-evening-with-westchester-s-tastemakers-10477773
END:VEVENT

END:VCALENDAR
