BEGIN:VCALENDAR
VERSION:2.0
PRODID:-//ChamberMaster//Event Calendar 2.0//EN
METHOD:PUBLISH
X-PUBLISHED-TTL:P3D
REFRESH-INTERVAL:P3D
CALSCALE:GREGORIAN
BEGIN:VEVENT
DTSTART:20190614T193000Z
DTEND:20190614T210000Z
X-MICROSOFT-CDO-ALLDAYEVENT:FALSE
SUMMARY:Why Hire Vets
DESCRIPTION:U.S. Representative Sean Patrick Maloney is hosting a panel discussion of representatives from federal agencies (DOL and VA) to discuss programs designed to enhance and encourage businesses to hire veterans.
X-ALT-DESC;FMTTYPE=text/html:U.S. Representative Sean Patrick Maloney is hosting a panel discussion of representatives from federal agencies (DOL and VA) to discuss programs designed to enhance and encourage businesses to hire veterans.
LOCATION:Newburgh Free Library Auditorium 124 Grand Street Newburgh\, NY 12550
UID:e.2770.10480818
SEQUENCE:3
DTSTAMP:20260423T021009Z
URL:http://dutchesscountyregional.smartcms.site/events/details/why-hire-vets-10480818
END:VEVENT

END:VCALENDAR
