BEGIN:VCALENDAR
VERSION:2.0
PRODID:-//ChamberMaster//Event Calendar 2.0//EN
METHOD:PUBLISH
X-PUBLISHED-TTL:P3D
REFRESH-INTERVAL:P3D
CALSCALE:GREGORIAN
BEGIN:VEVENT
DTSTART:20200912T180000Z
DTEND:20200912T220000Z
X-MICROSOFT-CDO-ALLDAYEVENT:FALSE
SUMMARY:Wine and Dine To Go: Celebrity Servers Deliver
DESCRIPTION:Thank you for your support of The Chamber Foundation's annual Cosimo DiBrizzi Celebrity Servers Event. We are excited to announce that celebrity servers have the ability to pick up and deliver a three-course meal\, including wine\, to a group of guests of your choice. Or you can have your meal donated and delivered to front line workers at MidHudson Regional Hospital\, Vassar Brothers Medical Center or a Poughkeepsie-based nonprofit.\n\n \n\nMeals will be family-style and include a locally sourced salad\, protein\, pasta and vegetable along with gourmet dessert. A bottle of red and white wine will be included courtesy of Millbrook Vineyards and Winery. A vegetarian option is available as well upon request. The meal will serve 6   8 guests and will be transport friendly. Also included is a gift for each "guest."  Additional "wine and dine" meals can be purchased for $150. Gift items are limited and may not be included in additional purchased meals. \n\n\n\nThank you to sponsors:\n\nMobile Life Support Services\n\nRiverside Bank\, a division of Salisbury Bank and Trust Co.\n\nWalden Savings Bank
X-ALT-DESC;FMTTYPE=text/html:<span style="font-size:18px\;"><span style="font-family:times new roman\;">Thank you for your support of The Chamber Foundation&rsquo\;s annual Cosimo DiBrizzi Celebrity Servers Event. We are excited to announce that celebrity servers have the ability to pick up and deliver a three-course meal\, including wine\, to a group of guests of your choice. Or you can have your meal donated and delivered to front line workers at MidHudson Regional Hospital\, Vassar Brothers Medical Center or a Poughkeepsie-based nonprofit.<br />\n&nbsp\;<br />\nMeals will be family-style and include a locally sourced salad\, protein\, pasta and vegetable along with gourmet dessert. A bottle of red and white wine will be included courtesy of Millbrook Vineyards and Winery. A vegetarian option is available as well upon request. The meal will serve 6 &ndash\; 8 guests and will be transport friendly. Also included is a gift for each &ldquo\;guest.&rdquo\;&nbsp\; Additional &ldquo\;wine and dine&rdquo\; meals can be purchased for $150. Gift items are limited and may not be included in additional purchased meals.&nbsp\;</span></span><br />\n<br />\n<span style="color: rgb(51\, 51\, 51)\; font-family: &quot\;times new roman&quot\;\; font-size: 18px\; background-color: rgb(255\, 255\, 255)\;">Thank you to sponsors:</span><br style="color: rgb(51\, 51\, 51)\; font-family: &quot\;times new roman&quot\;\; font-size: 18px\; background-color: rgb(255\, 255\, 255)\;" />\n<a href="https://www.mobilelife.com/" style="color: rgb(7\, 130\, 193)\; font-family: &quot\;times new roman&quot\;\; font-size: 18px\; background-color: rgb(255\, 255\, 255)\;" target="_blank"><span style="color:#0000FF\;">Mobile Life Support Services</span></a><br style="color: rgb(51\, 51\, 51)\; font-family: &quot\;times new roman&quot\;\; font-size: 18px\; background-color: rgb(255\, 255\, 255)\;" />\n<a href="https://www.salisburybank.com/about/locations/branch/NY/Poughkeepsie/poughkeepsie/" style="color: rgb(7\, 130\, 193)\; font-family: &quot\;times new roman&quot\;\; font-size: 18px\; background-color: rgb(255\, 255\, 255)\;" target="_blank"><span style="color:#0000FF\;">Riverside Bank\, a division of Salisbury Bank and Trust Co.</span></a><br style="color: rgb(51\, 51\, 51)\; font-family: &quot\;times new roman&quot\;\; font-size: 18px\; background-color: rgb(255\, 255\, 255)\;" />\n<a href="https://waldensavings.bank/" style="color: rgb(7\, 130\, 193)\; font-family: &quot\;times new roman&quot\;\; font-size: 18px\; background-color: rgb(255\, 255\, 255)\;" target="_blank"><span style="color:#0000FF\;">Walden Savings Bank</span></a>
LOCATION:Cosimo's 120 Delafield Street Poughkeepsie\, NY 12601
UID:e.2770.10484432
SEQUENCE:3
DTSTAMP:20260421T225941Z
URL:http://dutchesscountyregional.smartcms.site/events/details/wine-and-dine-to-go-celebrity-servers-deliver-10484432
END:VEVENT

END:VCALENDAR
