BEGIN:VCALENDAR
VERSION:2.0
PRODID:-//ChamberMaster//Event Calendar 2.0//EN
METHOD:PUBLISH
X-PUBLISHED-TTL:P3D
REFRESH-INTERVAL:P3D
CALSCALE:GREGORIAN
BEGIN:VEVENT
DTSTART:20180621T210000Z
DTEND:20180621T230000Z
X-MICROSOFT-CDO-ALLDAYEVENT:FALSE
SUMMARY:WLA - Planning Along A Lifetime Career Path
DESCRIPTION:Planning Along a Lifetime Career Path: \n\nTake the fast track to getting your career on track\n\n\n\nJoin us for an intimate evening with a panel of savvy women professionals. These experts will share their firsthand experiences gleaned from a lifetime of careers developed by taking risks and managing transitions. They will discuss the road to success and share their bumps along the way. You'll have the opportunity to connect in breakout sessions of small focus groups aimed at early\, mid-career and established professionals. \n\n\n	\n	Wish you had a career plan?\n	\n	\n	Long for a change\, a challenge or to start your own business?\n	\n	Want to better balance your personal and professional life?\n	  Ready to give back to the community? \n	Ready to learn how to network life a pro?\n\n\nTake advantage of this opportunity to learn from the talented women in our community-it's sure to be beneficial to all who attend!\n\n\n	How to Grow within a Company\, Heather Cassano\, Google\n	Networking Naturally\, Michelle Barone-Lepore\, Rhinebeck Savings Bank\n	Owning it: The risks and rewards of owning your own business\, Melissa Surprise\, Surprise Photography\n	Career and Family - is there such a thing as balance? Anna Trocino\, American Cancer Society\n	Finding new challenges and making the change\, Gloria Cukar\, MidHudson Regional Hospital\n	Change: Figuring out where to start\, Lauree Ostrofsky\, Hudson Valley Women in Business\n	How to grow within a company\n\n\n\nSponsored by: Rondout Savings Bank
X-ALT-DESC;FMTTYPE=text/html:<div _mce_style="line-height: 1.38\; margin-top: 0pt\; margin-bottom: 0pt\; background-color: #ffffff\;" dir="ltr" style="line-height: 1.38\; margin-top: 0pt\; margin-bottom: 0pt\;"><br />\n<span style="font-family:arial\;"><strong><span style="color:black\;"><span style="font-size:12.0pt\;">Planning Along a Lifetime Career Path:&nbsp\;</span></span></strong><br />\n<span style="font-size:14px\;"><span style="color:black\;"><span style="white-space:pre-wrap\;">Take the fast track to getting your career on track</span></span></span><br />\n<br />\n<span _mce_style="font-size: 11pt\;" id="docs-internal-guid-34b41711-b11a-3f11-fc63-08ce8a666620" style="color: rgb(69\, 69\, 69)\; font-size: 11pt\;"><span _mce_style="font-family: Arial\; color: #222222\; background-color: transparent\; font-variant-numeric: normal\; font-variant-east-asian: normal\; vertical-align: baseline\; white-space: pre-wrap\;" style="color: rgb(34\, 34\, 34)\; background-color: transparent\; font-variant-numeric: normal\; font-variant-east-asian: normal\; vertical-align: baseline\; white-space: pre-wrap\;">Join us for an intimate evening with a panel of savvy women professionals. These experts will share their firsthand experiences gleaned from a lifetime of careers developed by taking risks and managing transitions. They will discuss the road to success and share their bumps along the way. You&#39\;ll have the opportunity to connect in breakout sessions of small focus groups aimed at early\, mid-career and established professionals. </span></span></span></div>\n\n<ul>\n	<li dir="ltr">\n	<div dir="ltr"><span style="font-family:arial\;"><span _mce_style="font-size: 11pt\; color: #000000\;" id="docs-internal-guid-34b41711-b11a-3f11-fc63-08ce8a666620" style="font-size: 11pt\; color: rgb(0\, 0\, 0)\;">Wish you had a career plan?</span></span></div>\n	</li>\n	<li dir="ltr">\n	<div dir="ltr"><span style="font-family:arial\;"><span _mce_style="font-size: 11pt\; color: #000000\;" id="docs-internal-guid-34b41711-b11a-3f11-fc63-08ce8a666620" style="font-size: 11pt\; color: rgb(0\, 0\, 0)\;">Long for a change\, a challenge or to start your own business?</span></span></div>\n	</li>\n	<li><span style="font-family:arial\;"><span _mce_style="font-size: 11pt\; color: #000000\;" id="docs-internal-guid-34b41711-b11a-3f11-fc63-08ce8a666620" style="font-size: 11pt\; color: rgb(0\, 0\, 0)\;">Want to better balance your personal and professional life?</span></span></li>\n	<li><span style="font-family:arial\;">&#8203\;&#8203\;<span _mce_style="font-size: 11pt\; color: #000000\;" style="font-size: 11pt\; color: rgb(0\, 0\, 0)\;">Ready to give back to the community?&#8203\;</span></span></li>\n	<li><span style="font-family:arial\;"><span _mce_style="font-size: 11pt\; color: #000000\;" style="font-size: 11pt\; color: rgb(0\, 0\, 0)\;">Ready to learn how to network life a pro?</span></span></li>\n</ul>\n\n<div _mce_style="line-height: 1.38\; margin-top: 0pt\; margin-bottom: 0pt\; background-color: #ffffff\;" dir="ltr" style="line-height: 1.38\; margin-top: 0pt\; margin-bottom: 0pt\;"><span style="font-family:arial\;"><span _mce_style="font-size: 11pt\;" id="docs-internal-guid-34b41711-b11a-3f11-fc63-08ce8a666620" style="color: rgb(69\, 69\, 69)\; font-size: 11pt\;"><span _mce_style="font-family: Arial\; color: #222222\; background-color: transparent\; font-variant-numeric: normal\; font-variant-east-asian: normal\; vertical-align: baseline\; white-space: pre-wrap\;" style="color: rgb(34\, 34\, 34)\; background-color: transparent\; font-variant-numeric: normal\; font-variant-east-asian: normal\; vertical-align: baseline\; white-space: pre-wrap\;">Take advantage of this opportunity to learn from the talented women in our community-it&#39\;s sure to be beneficial to all who attend!</span></span></span>\n\n<ul>\n	<li style="vertical-align:baseline\;"><span style="font-size:16px\;"><span style="font-family:arial\;">How to Grow within a Company\, <strong>Heather Cassano</strong>\, Google</span></span></li>\n	<li style="vertical-align:baseline\;"><span style="font-family:arial\;"><span style="font-size:16px\;"><span style="color:black\;">Networking Naturally\, <strong>Michelle Barone-Lepore</strong>\, Rhinebeck Savings Bank</span></span></span></li>\n	<li style="vertical-align:baseline\;"><span style="font-family:arial\;"><span style="font-size:16px\;"><span style="color:black\;">Owning it: The risks and rewards of owning your own business\, <strong>Melissa Surprise</strong>\, Surprise Photography</span></span></span></li>\n	<li style="vertical-align:baseline\;"><span style="font-family:arial\;"><span style="font-size:16px\;"><span style="color:black\;">Career and Family - is there such a thing as balance? <strong>Anna Trocino</strong>\, American Cancer Society</span></span></span></li>\n	<li style="vertical-align:baseline\;"><span style="font-family:arial\;"><span style="font-size:16px\;"><span style="color:black\;">Finding new challenges and making the change\, <strong>Gloria Cukar</strong>\, MidHudson Regional Hospital</span></span></span></li>\n	<li style="vertical-align:baseline\;"><span style="font-family:arial\;"><span style="font-size:16px\;"><span style="color: rgb(0\, 0\, 0)\; font-variant-ligatures: normal\; font-variant-position: normal\; font-variant-numeric: normal\; font-variant-alternates: normal\; font-variant-east-asian: normal\; line-height: normal\;">Change: Figuring out where to start</span><span style="color:black\;">\, <strong>Lauree Ostrofsky</strong>\, Hudson Valley Women in Business</span></span></span></li>\n	<li style="vertical-align:baseline\;"><span style="font-family:arial\;"><span style="font-size:16px\;"><span style="color:black\;">How to grow within a company</span></span></span></li>\n</ul>\n<br />\n<span style="font-family:arial\;"><strong><span _mce_style="font-size: 11pt\;" style="color: rgb(69\, 69\, 69)\; font-size: 11pt\;"><span _mce_style="font-family: Arial\; color: #222222\; background-color: transparent\; font-variant-numeric: normal\; font-variant-east-asian: normal\; vertical-align: baseline\; white-space: pre-wrap\;" style="color: rgb(34\, 34\, 34)\; background-color: transparent\; font-variant-numeric: normal\; font-variant-east-asian: normal\; vertical-align: baseline\; white-space: pre-wrap\;">Sponsored by: </span></span><span _mce_style="font-size: 11pt\;" style="font-size: 11pt\;"><span _mce_style="font-family: Arial\; color: #222222\; background-color: transparent\; font-variant-numeric: normal\; font-variant-east-asian: normal\; vertical-align: baseline\; white-space: pre-wrap\;" style="background-color: transparent\; font-variant-numeric: normal\; font-variant-east-asian: normal\; vertical-align: baseline\; white-space: pre-wrap\;"><a href="https://www.rondoutbank.com/" target="_blank"><span style="color:#0000FF\;">Rondout Savings Bank</span></a></span></span></strong></span></div>\n\n<div>&nbsp\;</div>\n
LOCATION:ChangePoint Church 260 Mill Street\, Poughkeepsie
UID:e.2770.10476557
SEQUENCE:3
DTSTAMP:20260426T022308Z
URL:http://dutchesscountyregional.smartcms.site/events/details/wla-planning-along-a-lifetime-career-path-10476557
END:VEVENT

END:VCALENDAR
