BEGIN:VCALENDAR
VERSION:2.0
PRODID:-//ChamberMaster//Event Calendar 2.0//EN
METHOD:PUBLISH
X-PUBLISHED-TTL:P3D
REFRESH-INTERVAL:P3D
CALSCALE:GREGORIAN
BEGIN:VEVENT
DTSTART:20200227T220000Z
DTEND:20200228T000000Z
X-MICROSOFT-CDO-ALLDAYEVENT:FALSE
SUMMARY:Women's Leadership Alliance Networking Event
DESCRIPTION:The Chamber's Women's Leadership Alliance presents a networking event on Thursday\, February 27 for existing members of the WLA and new or prospective members to unite\, network\, and review tenets of the ATHENA Leadership Model.\n\n\n\nThis complimentary event will feature light hors d'oeuvres and a cash bar. Pre-registration is required\, please call (845) 454-1700 ext. 1000 with any questions.\n\nThe Women's Leadership Alliance helped produce the 2019 ATHENA International Women's Leadership Conference in the Hudson Valley. The ATHENA Leadership Model identifies eight distinct attributes that are reflective of women's contributions to leadership: living authentically\, learning constantly\, advocating fiercely\, acting courageously\, fostering collaboration\, building relationships\, giving back and celebrating. These personal traits that are more intuitive to women\, and combined with the strongest aspects of traditional leadership - taking risks\, assertiveness\, hard work - prepare women to be successful leaders in the 21st century. Under the ATHENA Leadership Model\, distinctive education and mentoring programs have been created to honor and foster women in leadership.\n\n \n\nMore information about the Women's Leadership Alliance may be found at wlahv.org.\n\n\n\nSponsored by: Royal Carting Service Company and Chase
X-ALT-DESC;FMTTYPE=text/html:<p style="margin: 0in 0in 0pt\;"><span style="font-size:16px\;"><span style="font-family:tahoma\;">The Chamber&#39\;s Women&#39\;s Leadership Alliance presents a networking event on Thursday\, February 27 for existing members of the WLA and new or prospective members to unite\, network\, and review tenets&nbsp\;</span></span><span style="font-size:16px\;"><span style="font-family:tahoma\;">of the ATHENA Leadership Model.<br />\n<br />\nThis complimentary event will feature light hors d&#39\;oeuvres and a cash bar. Pre-registration is required\, please call (845) 454-1700 ext. 1000 with any questions.</span></span></p>\n\n<p style="margin: 0px\;"><span style="font-size:16px\;"><span style="font-family:tahoma\;"><span style="margin: 0px\;"><font color="#000000">The Women&rsquo\;s Leadership Alliance helped produce the 2019 ATHENA International Women&rsquo\;s Leadership Conference in the Hudson Valley. The ATHENA Leadership Model <span style="background: white\; margin: 0px\;">identifies eight distinct attributes that are reflective of women&rsquo\;s contributions to leadership:&nbsp\;<em><span style="margin: 0px\;">living authentically\, learning constantly\, advocating fiercely\, acting courageously\, fostering collaboration\, building relationships\, giving back and celebrating</span></em>. These personal traits that are more intuitive to women\, and combined with the strongest aspects of traditional leadership - taking risks\, assertiveness\, hard work - prepare women to be successful leaders in the 21st century. Under the&nbsp\;<strong><span style="margin: 0px\; font-weight: normal\;">ATHENA Leadership Model</span></strong>\, distinctive education and mentoring programs have been created to honor and foster women in leadership.</span></font></span></span></span></p>\n\n<p style="margin: 0px\;"><span style="font-size:16px\;"><span style="font-family:tahoma\;"><span style="background: white\; margin: 0px\;"><font color="#000000">&nbsp\;</font></span></span></span></p>\n\n<p style="margin: 0px\;"><span style="font-size:16px\;"><span style="font-family:tahoma\;"><span style="background: white\; margin: 0px\;"><font color="#000000">More information about the Women&rsquo\;s Leadership Alliance may be found at wlahv.org.<br />\n<br />\nSponsored by: <strong><a href="https://www.royalcarting.us/">Royal Carting Service Company</a></strong> and <strong><a href="https://www.chase.com/">Chase</a></strong></font></span></span></span></p>\n
LOCATION:Paula's Public House 2186 New Hackensack Road Poughkeepsie
UID:e.2770.10482566
SEQUENCE:3
DTSTAMP:20260422T103514Z
URL:http://dutchesscountyregional.smartcms.site/events/details/women-s-leadership-alliance-networking-event-10482566
END:VEVENT

END:VCALENDAR
