BEGIN:VCALENDAR
VERSION:2.0
PRODID:-//ChamberMaster//Event Calendar 2.0//EN
METHOD:PUBLISH
X-PUBLISHED-TTL:P3D
REFRESH-INTERVAL:P3D
CALSCALE:GREGORIAN
BEGIN:VEVENT
DTSTART:20201001T140000Z
DTEND:20201001T190000Z
X-MICROSOFT-CDO-ALLDAYEVENT:FALSE
SUMMARY:Work Local First - Virtual Job Fair
DESCRIPTION:If you're looking to fill full-time\, part-time or temporary positions and believe in hiring from the local community\, the Work Local First Job Fair is for you.\n\nIf you're looking for work\, make sure to register and connect with some of the top employers in the region\, all of whom have positions to fill.\n\n\n\n*Job Seekers: To Register\, Please Click Here\n\n\n\nSponsored by: \n\n\n\nDutchess One Stop Career Center\n\nEthan Allen Workforce Solutions\n\nPoughkeepsie Galleria\n\nQuality Environmental Solutions & Technologies\, Inc.\n\n\n\nMedia Sponsor: Poughkeepsie Journal/LOCALiQ
X-ALT-DESC;FMTTYPE=text/html:<p><br />\n<span style="font-size:18px\;"><span style="color:#000000\;"><span style="font-family:times new roman\;">If you&#39\;re looking to fill full-time\, part-time or temporary positions and believe in hiring from the local community\, the Work Local First Job Fair is for you.</span></span></span></p>\n\n<p><span style="font-family:times new roman\;"><span style="font-size:16px\;"><span style="font-size:18px\;"><span style="color:#000000\;">If you&#39\;re looking for work\, make sure to register and connect&nbsp\;with some of the top employers in the region\, all of whom have positions to fill.</span></span></span></span><br />\n<br />\n<strong><em><span style="background: yellow\;"><span style="color: black\;"><span style="font-family: calibri\, sans-serif\;"><span style="font-size: 16pt\;">*Job Seekers:&nbsp\;</span></span></span></span></em></strong><em><span style="background: yellow\;"><span style="color: black\;"><span style="font-size: 16pt\;">To Register\, Please Click&nbsp\;</span></span></span></em><strong><em><span style="background: yellow\;"><span style="font-family: calibri\, sans-serif\;"><span style="font-size: 16pt\;"><a href="https://dcrcoc-org.zoom.us/webinar/register/WN_9Kn4aZ9eRHace_BS3GtSUA" target="_blank"><span style="color:#0000FF\;">Here</span></a></span></span></span></em></strong><br />\n<br />\n<span style="font-family:times new roman\;"><span style="font-size:16px\;"><span style="font-size:18px\;"><span style="color: rgb(0\, 0\, 0)\;"><strong>Sponsored by: </strong></span><br />\n<br />\n<strong><a href="https://www.dutchessonestop.org/" target="_blank"><span style="color:#0000FF\;">Dutchess One Stop Career Center</span></a></strong><br />\n<strong><a href="https://eaworkforce.com/" target="_blank"><span style="color:#0000FF\;">Ethan Allen Workforce Solutions</span></a></strong></span></span></span><br />\n<strong style="font-family: &quot\;times new roman&quot\;\; font-size: 18px\;"><a href="https://www.poughkeepsiegalleriamall.com/directory/" target="_blank"><span style="color:#0000FF\;">P</span></a></strong><a href="https://www.poughkeepsiegalleriamall.com/directory/" target="_blank"><span style="color:#0000FF\;"><strong style="font-family: &quot\;times new roman&quot\;\; font-size: 18px\;">oughkeepsie Galleria</strong></span></a><br />\n<span style="font-size:18px\;"><span style="font-family:times new roman\;"><strong><a href="https://www.qualityenv.com/" target="_blank"><span style="color:#0000FF\;">Quality Environmental Solutions &amp\; Technologies\, Inc.</span></a></strong><br />\n<br />\n<span style="color: rgb(0\, 0\, 0)\;"><strong>Media Sponsor</strong>:&nbsp\;</span><strong><a href="https://www.poughkeepsiejournal.com/news/" target="_blank"><span style="color:#0000FF\;">Poughkeepsie Journal/LOCALiQ</span></a></strong></span></span></p>\n
LOCATION:Zoom
UID:e.2770.10481465
SEQUENCE:3
DTSTAMP:20260421T211553Z
URL:http://dutchesscountyregional.smartcms.site/events/details/work-local-first-virtual-job-fair-10481465
END:VEVENT

END:VCALENDAR
