BEGIN:VCALENDAR
VERSION:2.0
PRODID:-//ChamberMaster//Event Calendar 2.0//EN
METHOD:PUBLISH
X-PUBLISHED-TTL:P3D
REFRESH-INTERVAL:P3D
CALSCALE:GREGORIAN
BEGIN:VEVENT
DTSTART:20210330T140000Z
DTEND:20210330T190000Z
X-MICROSOFT-CDO-ALLDAYEVENT:FALSE
SUMMARY:Work Local First - Virtual Job Fair
DESCRIPTION:If you're looking to fill full-time\, part-time or temporary positions and believe in hiring from the local community\, the Work Local First Job Fair is for you.\n\nIf you're looking for work\, make sure to register and connect with some of the top employers in the region\, all of whom have positions to fill.\n\n\n\n*Job Seekers: To Register\, Please Click Here\n\n*Employers: To Register\, Please Email: Chelsea@dcrcoc.org\n\n\n\nThank you to our sponsors: Ethan Allen Workforce Solutions and Quality Environmental Solutions & Technologies\, Inc.
X-ALT-DESC;FMTTYPE=text/html:<p><br />\n<span style="font-size:18px\;"><span style="color:#000000\;"><span style="font-family:times new roman\;">If you&#39\;re looking to fill full-time\, part-time or temporary positions and believe in hiring from the local community\, the Work Local First Job Fair is for you.</span></span></span></p>\n\n<p><span style="font-family:times new roman\;"><span style="font-size:16px\;"><span style="font-size:18px\;"><span style="color:#000000\;">If you&#39\;re looking for work\, make sure to register and connect&nbsp\;with some of the top employers in the region\, all of whom have positions to fill.</span></span></span></span><br />\n<br />\n<strong><em><span style="background: yellow\;"><span style="color: black\;"><span style="font-family: calibri\, sans-serif\;"><span style="font-size: 16pt\;">*Job Seekers:&nbsp\;</span></span></span></span></em></strong><em><span style="background: yellow\;"><span style="color: black\;"><span style="font-size: 16pt\;">To Register\, Please Click </span></span><strong><span style="font-size: 16pt\;"><a href="https://dcrcoc-org.zoom.us/webinar/register/WN_SgLzTIJ-QRyAt0WqA7cLWQ" target="_blank"><span style="color:#0000FF\;">Here</span></a></span></strong></span></em><br />\n<strong><em><span style="background: yellow\;"><span style="color: black\;"><span style="font-family: calibri\, sans-serif\;"><span style="font-size: 16pt\;">*Employers:&nbsp\;</span></span></span></span></em></strong><em><span style="background: yellow\;"><span style="color: black\;"><span style="font-size: 16pt\;">To Register\, Please Email: </span></span><span style="font-size: 16pt\;"><strong><a href="mailto:Chelsea@dcrcoc.org"><span style="color:#0000FF\;">Chelsea@dcrcoc.org</span></a></strong></span></span></em><br />\n<br />\n<span style="font-family:times new roman\;"><span style="font-size:16px\;"><span style="font-size:18px\;"><span style="color: rgb(0\, 0\, 0)\;"><strong>Thank you to our sponsors: </strong></span><strong><a href="https://eaworkforce.com/" target="_blank"><span style="color:#0000FF\;">Ethan Allen Workforce Solutions</span></a></strong><span style="color: rgb(0\, 0\, 0)\;"><strong> and </strong></span><strong><a href="https://www.qualityenv.com/" target="_blank"><span style="color:#0000FF\;">Quality Environmental Solutions &amp\; Technologies\, Inc.</span></a></strong></span></span></span></p>\n
LOCATION:For more information please visit www.dcrcoc.org/jobfair Zoom
UID:e.2770.10484511
SEQUENCE:3
DTSTAMP:20260421T132033Z
URL:http://dutchesscountyregional.smartcms.site/events/details/work-local-first-virtual-job-fair-10484511
END:VEVENT

END:VCALENDAR
