BEGIN:VCALENDAR
VERSION:2.0
PRODID:-//ChamberMaster//Event Calendar 2.0//EN
METHOD:PUBLISH
X-PUBLISHED-TTL:P3D
REFRESH-INTERVAL:P3D
CALSCALE:GREGORIAN
BEGIN:VEVENT
DTSTART:20200713T190000Z
DTEND:20200713T200000Z
X-MICROSOFT-CDO-ALLDAYEVENT:FALSE
SUMMARY:Workforce Development - Financial Literacy Workshop
DESCRIPTION:Interested in registering? Please contact: sbleier@dcrcoc.org\n\n\n\nSponsored By: Mid-Hudson Valley Federal Credit Union
X-ALT-DESC;FMTTYPE=text/html:<span style="color: rgb(35\, 35\, 51)\; font-family: &quot\;times new roman&quot\;\; font-size: 18px\;">Interested in registering? Please contact:</span><span style="font-family: &quot\;times new roman&quot\;\; font-size: 18px\;"><strong><span style="color: rgb(0\, 0\, 255)\;">&nbsp\;</span></strong></span><a href="mailto:sbleier@dcrcoc.org"><span style="color:#0000FF\;"><strong><span style="font-size:18px\;"><span style="font-family:times new roman\;">sbleier@dcrcoc.org</span></span></strong></span></a><br />\n<br />\n<span style="font-size:16px\;"><span style="font-family:tahoma\;"><span style="color:#000000\;"><strong>Sponsored By:</strong></span> <strong><a href="https://www.mhvfcu.com/?gclid=EAIaIQobChMI8MLfrJS86gIVXwiICR3DzgnMEAAYASAAEgJEQfD_BwE" target="_blank"><span style="color:#0000FF\;">Mid-Hudson Valley Federal Credit Union</span></a></strong></span></span>
LOCATION:
UID:e.2770.10484143
SEQUENCE:3
DTSTAMP:20260422T015741Z
URL:http://dutchesscountyregional.smartcms.site/events/details/workforce-development-financial-literacy-workshop-10484143
END:VEVENT

END:VCALENDAR
